BEGIN:VCALENDAR
VERSION:2.0
PRODID:-//Baptist Convention of Maryland &amp; Delaware - ECPv6.15.20//NONSGML v1.0//EN
CALSCALE:GREGORIAN
METHOD:PUBLISH
X-ORIGINAL-URL:https://bcmd.org
X-WR-CALDESC:Events for Baptist Convention of Maryland &amp; Delaware
REFRESH-INTERVAL;VALUE=DURATION:PT1H
X-Robots-Tag:noindex
X-PUBLISHED-TTL:PT1H
BEGIN:VTIMEZONE
TZID:America/New_York
BEGIN:DAYLIGHT
TZOFFSETFROM:-0500
TZOFFSETTO:-0400
TZNAME:EDT
DTSTART:20230312T070000
END:DAYLIGHT
BEGIN:STANDARD
TZOFFSETFROM:-0400
TZOFFSETTO:-0500
TZNAME:EST
DTSTART:20231105T060000
END:STANDARD
BEGIN:DAYLIGHT
TZOFFSETFROM:-0500
TZOFFSETTO:-0400
TZNAME:EDT
DTSTART:20240310T070000
END:DAYLIGHT
BEGIN:STANDARD
TZOFFSETFROM:-0400
TZOFFSETTO:-0500
TZNAME:EST
DTSTART:20241103T060000
END:STANDARD
BEGIN:DAYLIGHT
TZOFFSETFROM:-0500
TZOFFSETTO:-0400
TZNAME:EDT
DTSTART:20250309T070000
END:DAYLIGHT
BEGIN:STANDARD
TZOFFSETFROM:-0400
TZOFFSETTO:-0500
TZNAME:EST
DTSTART:20251102T060000
END:STANDARD
END:VTIMEZONE
BEGIN:VEVENT
DTSTART;VALUE=DATE:20240422
DTEND;VALUE=DATE:20240425
DTSTAMP:20260421T044755
CREATED:20231103T155839Z
LAST-MODIFIED:20231103T160226Z
UID:10000096-1713744000-1714003199@bcmd.org
SUMMARY:Refresh Retreat 2024
DESCRIPTION:Refresh Retreats are three-day retreats designed to bring deep encouragement and strengthening to ministry couples\, church staff\, and lay leaders. Teaching topics include spiritual and emotional health as well as other topics like godly leadership\, prayer\, and evangelism. \nPrices\nPastor Alone – $199 (includes lodging)\nPastor & Wife – $399 (includes lodging) \nThe registration price includes two nights lodging\, all sessions\, conference materials\, and meals are covered\, Monday dinner through Wednesday breakfast. \nREGISTER NOW
URL:https://bcmd.org/event/refresh-2024/
LOCATION:Loews Philadelphia Hotel\, 1200 Market St\, Philadelphia\, PA\, 19107\, United States
ATTACH;FMTTYPE=image/png:https://bcmd.org/wp-content/uploads/2023/11/namb.png
END:VEVENT
END:VCALENDAR