BEGIN:VCALENDAR
VERSION:2.0
PRODID:-//Baptist Convention of Maryland &amp; Delaware - ECPv6.15.20//NONSGML v1.0//EN
CALSCALE:GREGORIAN
METHOD:PUBLISH
X-ORIGINAL-URL:https://bcmd.org
X-WR-CALDESC:Events for Baptist Convention of Maryland &amp; Delaware
REFRESH-INTERVAL;VALUE=DURATION:PT1H
X-Robots-Tag:noindex
X-PUBLISHED-TTL:PT1H
BEGIN:VTIMEZONE
TZID:America/New_York
BEGIN:DAYLIGHT
TZOFFSETFROM:-0500
TZOFFSETTO:-0400
TZNAME:EDT
DTSTART:20250309T070000
END:DAYLIGHT
BEGIN:STANDARD
TZOFFSETFROM:-0400
TZOFFSETTO:-0500
TZNAME:EST
DTSTART:20251102T060000
END:STANDARD
BEGIN:DAYLIGHT
TZOFFSETFROM:-0500
TZOFFSETTO:-0400
TZNAME:EDT
DTSTART:20260308T070000
END:DAYLIGHT
BEGIN:STANDARD
TZOFFSETFROM:-0400
TZOFFSETTO:-0500
TZNAME:EST
DTSTART:20261101T060000
END:STANDARD
BEGIN:DAYLIGHT
TZOFFSETFROM:-0500
TZOFFSETTO:-0400
TZNAME:EDT
DTSTART:20270314T070000
END:DAYLIGHT
BEGIN:STANDARD
TZOFFSETFROM:-0400
TZOFFSETTO:-0500
TZNAME:EST
DTSTART:20271107T060000
END:STANDARD
END:VTIMEZONE
BEGIN:VEVENT
DTSTART;TZID=America/New_York:20260210T090000
DTEND;TZID=America/New_York:20260210T154500
DTSTAMP:20260421T082257
CREATED:20260109T034403Z
LAST-MODIFIED:20260112T203110Z
UID:10000745-1770714000-1770738300@bcmd.org
SUMMARY:Sending Lab
DESCRIPTION:The Sending Lab\n						The Sending Lab is a one-day workshop that will help you develop a vision and plan for leading your church to send. It’s a collaborative experience that will connect you with other pastors on the same journey\, while guiding you to identify your next steps for finding\, developing\, and sending church planters. \n  \n					\n				\n			\n			\n				\n				\n				\n				\n			\n				\n				\n				\n				\n				\n				\n				\n				\n				\n				\n				\n				\n				\n				\n				\n				Event Details\n				Sending Lab is an immersive\, one-day workshop designed to equip pastors and church leaders to move from vision to action in sending. You’ll join other leaders who are passionate about mobilization and church planting for a highly collaborative experience that helps you clarify how your church can identify\, develop\, and send church planters with purpose and confidence. This is not theory\, it’s practical\, contextual\, and built to help you take meaningful next steps. \nJoin us on February 10\, 2026\, from 9:00 AM–3:45 PM at South Shore Church for a focused day of learning\, collaboration\, and strategy. If you’re asking\, “What’s next for our church when it comes to sending?” then this lab is for you. \n			\n				\n				\n				\n				\n				Register Here!
URL:https://bcmd.org/event/sending-lab/
LOCATION:South Shore Church\, 725 Herald Harbor Rd\, Crownsville\, MD\, 21032\, United States
CATEGORIES:Church Planting
ATTACH;FMTTYPE=image/png:https://bcmd.org/wp-content/uploads/2026/01/sending-lab-webpage-3.png
END:VEVENT
END:VCALENDAR