BEGIN:VCALENDAR
VERSION:2.0
PRODID:-//Baptist Convention of Maryland &amp; Delaware - ECPv6.15.20//NONSGML v1.0//EN
CALSCALE:GREGORIAN
METHOD:PUBLISH
X-ORIGINAL-URL:https://bcmd.org
X-WR-CALDESC:Events for Baptist Convention of Maryland &amp; Delaware
REFRESH-INTERVAL;VALUE=DURATION:PT1H
X-Robots-Tag:noindex
X-PUBLISHED-TTL:PT1H
BEGIN:VTIMEZONE
TZID:America/New_York
BEGIN:DAYLIGHT
TZOFFSETFROM:-0500
TZOFFSETTO:-0400
TZNAME:EDT
DTSTART:20220313T070000
END:DAYLIGHT
BEGIN:STANDARD
TZOFFSETFROM:-0400
TZOFFSETTO:-0500
TZNAME:EST
DTSTART:20221106T060000
END:STANDARD
BEGIN:DAYLIGHT
TZOFFSETFROM:-0500
TZOFFSETTO:-0400
TZNAME:EDT
DTSTART:20230312T070000
END:DAYLIGHT
BEGIN:STANDARD
TZOFFSETFROM:-0400
TZOFFSETTO:-0500
TZNAME:EST
DTSTART:20231105T060000
END:STANDARD
BEGIN:DAYLIGHT
TZOFFSETFROM:-0500
TZOFFSETTO:-0400
TZNAME:EDT
DTSTART:20240310T070000
END:DAYLIGHT
BEGIN:STANDARD
TZOFFSETFROM:-0400
TZOFFSETTO:-0500
TZNAME:EST
DTSTART:20241103T060000
END:STANDARD
END:VTIMEZONE
BEGIN:VEVENT
DTSTART;TZID=America/New_York:20231111T070000
DTEND;TZID=America/New_York:20231111T080000
DTSTAMP:20260424T045544
CREATED:20231013T185306Z
LAST-MODIFIED:20231013T192114Z
UID:10000093-1699686000-1699689600@bcmd.org
SUMMARY:Annual Meeting Prayer Breakfast
DESCRIPTION:Mid-Maryland Baptist Association & BCM/D Annual Meeting Prayer Breakfast\n \n  \nPrayer is our primary strategy because the work that needs to be done in our lives\, our churches\, our communities\, and our convention can only be done by God. If we want to see great changes in our convention this year\, they will come from God and be fueled by prayer. You are invited for a time of intentional prayer during our annual meeting. Register below! \n  \nOops! We could not locate your form.
URL:https://bcmd.org/event/prayer-breakfast/
LOCATION:Kettering Baptist Church\, 6909 Crain Highway\, Upper Marlboro\, MD\, 20772\, United States
ATTACH;FMTTYPE=image/png:https://bcmd.org/wp-content/uploads/2022/09/bcmd-default-featured-photo.png
END:VEVENT
END:VCALENDAR