BEGIN:VCALENDAR
VERSION:2.0
PRODID:-//Baptist Convention of Maryland &amp; Delaware - ECPv6.15.20//NONSGML v1.0//EN
CALSCALE:GREGORIAN
METHOD:PUBLISH
X-WR-CALNAME:Baptist Convention of Maryland &amp; Delaware
X-ORIGINAL-URL:https://bcmd.org
X-WR-CALDESC:Events for Baptist Convention of Maryland &amp; Delaware
REFRESH-INTERVAL;VALUE=DURATION:PT1H
X-Robots-Tag:noindex
X-PUBLISHED-TTL:PT1H
BEGIN:VTIMEZONE
TZID:America/New_York
BEGIN:DAYLIGHT
TZOFFSETFROM:-0500
TZOFFSETTO:-0400
TZNAME:EDT
DTSTART:20240310T070000
END:DAYLIGHT
BEGIN:STANDARD
TZOFFSETFROM:-0400
TZOFFSETTO:-0500
TZNAME:EST
DTSTART:20241103T060000
END:STANDARD
BEGIN:DAYLIGHT
TZOFFSETFROM:-0500
TZOFFSETTO:-0400
TZNAME:EDT
DTSTART:20250309T070000
END:DAYLIGHT
BEGIN:STANDARD
TZOFFSETFROM:-0400
TZOFFSETTO:-0500
TZNAME:EST
DTSTART:20251102T060000
END:STANDARD
BEGIN:DAYLIGHT
TZOFFSETFROM:-0500
TZOFFSETTO:-0400
TZNAME:EDT
DTSTART:20260308T070000
END:DAYLIGHT
BEGIN:STANDARD
TZOFFSETFROM:-0400
TZOFFSETTO:-0500
TZNAME:EST
DTSTART:20261101T060000
END:STANDARD
END:VTIMEZONE
BEGIN:VEVENT
DTSTART;TZID=America/New_York:20250307T183000
DTEND;TZID=America/New_York:20250308T150000
DTSTAMP:20260421T193216
CREATED:20241023T080350Z
LAST-MODIFIED:20250305T152351Z
UID:10000581-1741372200-1741446000@bcmd.org
SUMMARY:Revive Conference 2025
DESCRIPTION:EVENT SCHEDULE\n						\n \nFriday\nREGISTRATION OPENS AT 4:00PM (The Worship Center will not open until 6:10pm so we’ve given you time to come and register and then go grab dinner!)\n6:30pm – Session 1: Worship and Message from Dr. Sarita Lyons\n8:00pm – Book Signing with Dr. Sarita Lyons & Dessert\nSaturday\n8:15am – Doors Open: Pastries and Coffee\n9:00am – Welcome and Giveaways\n9:15am – Session 2: Worship and Message from Callie Holland\n10:30am – Breakout A / Pastors’ Wives Gathering\n11:30am – Breakout B / Lunch B\n12:30pm – Breakout C / Lunch C\n1:30pm – BCM/D Store Closes\n1:30pm – Session 3: Worship and Final Charge from Somer Phoebus\n2:30pm – Giveaways and Closing\n\n					\n				\n			\n				\n				\n				\n				\n				 \n \nREVIVE FAQ’S\nWhat is the dress code? \nCasual and comfortable. We suggest you bring a sweatshirt or light jacket if you get cold easily. Or you can pick one up at the Revive Store! \nCan we reserve seats? \nUnfortunately\, no. But when doors open you can send someone in from your group to hold seats. They can save them up until 5 minutes before the service begins. At that point if your group has not arrived\, we will have to give them away. It’s going to be a packed house. \nWill you be able to accommodate allergies? \nWe have gluten free\, dairy free\, and vegetarian options for lunch and at the Snack Bar. We cannot guarantee gluten free\, dairy free\, or vegetarian options for Dessert Friday and Pastries Saturday morning\, but again\, feel free to hit the Snack Bar! \nIs there a location for nursing mothers or mothers with strollers? \nYes\, we are so excited to be able to offer an overflow ares where the entire event (with the exception of breakouts) will be streamed live next door to the Worship Center. We’ll have tables and chairs and plenty of room for your strollers in there. \nHow do we pick up our pre-ordered Bundle? \nPre-ordered Revive Bundles will be ready for pickup at the Revive Store. You may be asked to show your I.D. \nHow do I register for breakouts? \nRegular Ticket Holders: If you have not selected your Breakouts by noon on March 4th you will automatically be assigned to join Callie Holland in the Gymnasium for Session A\, then for Session B you’ll head to the Worship Center for Building a Christ Centered Home with Linda Lotich\, and then you’ll have lunch during Session C!  \nOverflow Ticket Holders: Your Breakouts and lunch have been pre-selected\, you’ll join Callie Holland in the Gymnasium for a special Q&A during Session A. Then for Session B you’ll head to the Worship Center for Building a Christ Centered Home with Linda Lotich\, and finally you’ll grab your lunch (from the gym) and take it back to the Worship Center for The Habits of Prayer Warriors with Melody Knox in Session C!  \nImportant Note: Due to full attendance\, no changes to breakout sessions can be made onsite or after noon on March 4th. Thank you for your understanding. \nHow do I register if I’m just coming on Saturday? \nHead to the Information Desk in the lobby and someone from our team will be there to help you! \nWhat if I have a question that you didn’t answer here? \nWe’d be happy to help you anytime\, please email events@bcmd.org. \n			\n				\n				\n				\n				\n				\n					\n					\n						\n						This event has sold out and registration for Revive 2025 has closed. This form is only for current ticket holders who purchased an individual or group ticket. This is not for anyone who purchased an overflow ticket.\n					\n				\n			\n				\n				\n				\n				\n				Oops! We could not locate your form. \n			\n				\n				\n				\n				\n				\n			\n			\n				\n				\n				\n				\n			\n				\n				\n				\n				\n				\n				\n				\n				\n				\n				\n				\n					\n					\n						\n						Revive Refund Policy: All ticket sales are final and non-refundable. However\, if you are unable to attend\, you may choose to donate your ticket to someone in need of a scholarship. Many women would love to attend but face financial barriers\, and your generosity could make a meaningful impact. If you would like to transfer your ticket in this way\, please contact us.\n					\n				\n			\n				DOWNLOAD THE MEDIA KIT
URL:https://bcmd.org/event/revive-conference-2025/
LOCATION:Riva Trace Baptist Church\, 475 W Central Ave\, Davidson\, MD\, 21035\, United States
CATEGORIES:Women's Ministry
ATTACH;FMTTYPE=image/png:https://bcmd.org/wp-content/uploads/2024/11/2.png
END:VEVENT
END:VCALENDAR