BEGIN:VCALENDAR
VERSION:2.0
PRODID:-//Baptist Convention of Maryland &amp; Delaware - ECPv6.15.20//NONSGML v1.0//EN
CALSCALE:GREGORIAN
METHOD:PUBLISH
X-WR-CALNAME:Baptist Convention of Maryland &amp; Delaware
X-ORIGINAL-URL:https://bcmd.org
X-WR-CALDESC:Events for Baptist Convention of Maryland &amp; Delaware
REFRESH-INTERVAL;VALUE=DURATION:PT1H
X-Robots-Tag:noindex
X-PUBLISHED-TTL:PT1H
BEGIN:VTIMEZONE
TZID:America/New_York
BEGIN:DAYLIGHT
TZOFFSETFROM:-0500
TZOFFSETTO:-0400
TZNAME:EDT
DTSTART:20240310T070000
END:DAYLIGHT
BEGIN:STANDARD
TZOFFSETFROM:-0400
TZOFFSETTO:-0500
TZNAME:EST
DTSTART:20241103T060000
END:STANDARD
BEGIN:DAYLIGHT
TZOFFSETFROM:-0500
TZOFFSETTO:-0400
TZNAME:EDT
DTSTART:20250309T070000
END:DAYLIGHT
BEGIN:STANDARD
TZOFFSETFROM:-0400
TZOFFSETTO:-0500
TZNAME:EST
DTSTART:20251102T060000
END:STANDARD
BEGIN:DAYLIGHT
TZOFFSETFROM:-0500
TZOFFSETTO:-0400
TZNAME:EDT
DTSTART:20260308T070000
END:DAYLIGHT
BEGIN:STANDARD
TZOFFSETFROM:-0400
TZOFFSETTO:-0500
TZNAME:EST
DTSTART:20261101T060000
END:STANDARD
END:VTIMEZONE
BEGIN:VEVENT
DTSTART;VALUE=DATE:20250925
DTEND;VALUE=DATE:20250928
DTSTAMP:20260421T084540
CREATED:20241122T205945Z
LAST-MODIFIED:20250825T134958Z
UID:10000594-1758758400-1759017599@bcmd.org
SUMMARY:SOLD OUT: Pastors' Wives Retreat
DESCRIPTION:Pastors' Wives Retreat: THIS EVENT IS SOLD OUT\n						\n\n\nWhen: Septemeber 25-27\, 2025\n \nWhere: The Crowne Plaza Annapolis\, MD\n\n\n\n \n					\n				\n			\n				\n				\n				\n				\n				\n					\n					\n						Schedule\n						\n\n\nTHIS EVENT IS SOLD OUT\n \n \nThursday\n\n4:00 PM – Check-in\n5:00 PM – Welcome Dinner\n6:00 PM – Encouragement and Worship\n7:30 PM – Dessert and Cohorts\n\nFriday\n\n7:00 AM – Prayer Walk\n8:00 AM – Breakfast\n9:00 AM – Group Devotional\n10:00 AM – Cohorts\n11:00 AM – Get ready for outing\n11:45 AM – Head to Downtown Annapolis\n12:00 PM – Lunch at Iron Rooster\n1:00 PM – Free Time in DTA\n3:30 PM – Head back to hotel\n3:45 PM – Rest + Clean Up\n5:00 PM – Dinner\n6:00 PM – Encouragement and Worship\n7:30 PM – Dessert and Cohorts\n\nSaturday\n\n7:00 AM – Prayer Walk\n8:00 AM – Breakfast\n9:00 AM – Group Devotional\n10:00 AM – Closing\n\n \n\n\n\n \n					\n				\n			\n			\n				\n				\n				\n				\n			\n				\n				\n			\n				\n				\n				\n				\n				\n				\n				\n				\n				\n				\n				\n				\n				\n				\n				\n				\n				\n				Oops! We could not locate your form.
URL:https://bcmd.org/event/pastors-wives-retreat/
LOCATION:DE
CATEGORIES:Women's Ministry
ATTACH;FMTTYPE=image/jpeg:https://bcmd.org/wp-content/uploads/2024/11/2024REVIVE-142.jpg
END:VEVENT
END:VCALENDAR