BEGIN:VCALENDAR
VERSION:2.0
PRODID:-//Baptist Convention of Maryland &amp; Delaware - ECPv6.15.20//NONSGML v1.0//EN
CALSCALE:GREGORIAN
METHOD:PUBLISH
X-WR-CALNAME:Baptist Convention of Maryland &amp; Delaware
X-ORIGINAL-URL:https://bcmd.org
X-WR-CALDESC:Events for Baptist Convention of Maryland &amp; Delaware
REFRESH-INTERVAL;VALUE=DURATION:PT1H
X-Robots-Tag:noindex
X-PUBLISHED-TTL:PT1H
BEGIN:VTIMEZONE
TZID:America/New_York
BEGIN:DAYLIGHT
TZOFFSETFROM:-0500
TZOFFSETTO:-0400
TZNAME:EDT
DTSTART:20230312T070000
END:DAYLIGHT
BEGIN:STANDARD
TZOFFSETFROM:-0400
TZOFFSETTO:-0500
TZNAME:EST
DTSTART:20231105T060000
END:STANDARD
BEGIN:DAYLIGHT
TZOFFSETFROM:-0500
TZOFFSETTO:-0400
TZNAME:EDT
DTSTART:20240310T070000
END:DAYLIGHT
BEGIN:STANDARD
TZOFFSETFROM:-0400
TZOFFSETTO:-0500
TZNAME:EST
DTSTART:20241103T060000
END:STANDARD
BEGIN:DAYLIGHT
TZOFFSETFROM:-0500
TZOFFSETTO:-0400
TZNAME:EDT
DTSTART:20250309T070000
END:DAYLIGHT
BEGIN:STANDARD
TZOFFSETFROM:-0400
TZOFFSETTO:-0500
TZNAME:EST
DTSTART:20251102T060000
END:STANDARD
END:VTIMEZONE
BEGIN:VEVENT
DTSTART;TZID=America/New_York:20240914T090000
DTEND;TZID=America/New_York:20240914T140000
DTSTAMP:20260422T032737
CREATED:20240721T015835Z
LAST-MODIFIED:20240721T022443Z
UID:10000567-1726304400-1726322400@bcmd.org
SUMMARY:Women In Ministry (WIM) Leadership Conference
DESCRIPTION:Join us at this year’s Fall WIM Conference designed for women leading in ministry. Experience inspiring speakers\, heartfelt worship\, and invaluable resources tailored to equip you for the work God has created you for. Whether you’re actively in ministry or sensing a call to serve (full-time or part-time)\, this conference is for you. Let’s come ready for God to empower His daughters to confidently walk in their divine calling and purpose. We have limited space so register today!\n\n\n\n\nOops! We could not locate your form.
URL:https://bcmd.org/event/women-in-ministry-leadership-conference/
LOCATION:South Shore Church\, 725 Herald Harbor Rd\, Crownsville\, MD\, 21032\, United States
CATEGORIES:Women's Ministry
ATTACH;FMTTYPE=image/png:https://bcmd.org/wp-content/uploads/2024/07/WIM-Prayer-and-worship-night-Postcard-Landscape.png
ORGANIZER;CN="BCM/D Women":MAILTO:sphoebus@bcmd.org
END:VEVENT
END:VCALENDAR