BEGIN:VCALENDAR
VERSION:2.0
PRODID:-//Baptist Convention of Maryland &amp; Delaware - ECPv6.15.20//NONSGML v1.0//EN
CALSCALE:GREGORIAN
METHOD:PUBLISH
X-WR-CALNAME:Baptist Convention of Maryland &amp; Delaware
X-ORIGINAL-URL:https://bcmd.org
X-WR-CALDESC:Events for Baptist Convention of Maryland &amp; Delaware
REFRESH-INTERVAL;VALUE=DURATION:PT1H
X-Robots-Tag:noindex
X-PUBLISHED-TTL:PT1H
BEGIN:VTIMEZONE
TZID:America/New_York
BEGIN:DAYLIGHT
TZOFFSETFROM:-0500
TZOFFSETTO:-0400
TZNAME:EDT
DTSTART:20230312T070000
END:DAYLIGHT
BEGIN:STANDARD
TZOFFSETFROM:-0400
TZOFFSETTO:-0500
TZNAME:EST
DTSTART:20231105T060000
END:STANDARD
BEGIN:DAYLIGHT
TZOFFSETFROM:-0500
TZOFFSETTO:-0400
TZNAME:EDT
DTSTART:20240310T070000
END:DAYLIGHT
BEGIN:STANDARD
TZOFFSETFROM:-0400
TZOFFSETTO:-0500
TZNAME:EST
DTSTART:20241103T060000
END:STANDARD
BEGIN:DAYLIGHT
TZOFFSETFROM:-0500
TZOFFSETTO:-0400
TZNAME:EDT
DTSTART:20250309T070000
END:DAYLIGHT
BEGIN:STANDARD
TZOFFSETFROM:-0400
TZOFFSETTO:-0500
TZNAME:EST
DTSTART:20251102T060000
END:STANDARD
END:VTIMEZONE
BEGIN:VEVENT
DTSTART;TZID=America/New_York:20240113T090000
DTEND;TZID=America/New_York:20240113T120000
DTSTAMP:20260422T153038
CREATED:20231107T145840Z
LAST-MODIFIED:20231107T160909Z
UID:10000097-1705136400-1705147200@bcmd.org
SUMMARY:Pastors Wives One Day: Healthy Rhythms For a Joyful 2024
DESCRIPTION:Join us January 13\, 2024 at South Shore Church!\nBreakfast included – PLUS a 2024 3 Step Planner! \n\nOops! We could not locate your form.
URL:https://bcmd.org/event/healthy-rhythms-2024/
LOCATION:South Shore Church\, 725 Herald Harbor Rd\, Crownsville\, MD\, 21032\, United States
CATEGORIES:Women's Ministry
ATTACH;FMTTYPE=image/png:https://bcmd.org/wp-content/uploads/2023/11/3-e1699372984103.png
END:VEVENT
END:VCALENDAR