BEGIN:VCALENDAR
VERSION:2.0
PRODID:-//Baptist Convention of Maryland &amp; Delaware - ECPv6.15.20//NONSGML v1.0//EN
CALSCALE:GREGORIAN
METHOD:PUBLISH
X-ORIGINAL-URL:https://bcmd.org
X-WR-CALDESC:Events for Baptist Convention of Maryland &amp; Delaware
REFRESH-INTERVAL;VALUE=DURATION:PT1H
X-Robots-Tag:noindex
X-PUBLISHED-TTL:PT1H
BEGIN:VTIMEZONE
TZID:America/New_York
BEGIN:DAYLIGHT
TZOFFSETFROM:-0500
TZOFFSETTO:-0400
TZNAME:EDT
DTSTART:20240310T070000
END:DAYLIGHT
BEGIN:STANDARD
TZOFFSETFROM:-0400
TZOFFSETTO:-0500
TZNAME:EST
DTSTART:20241103T060000
END:STANDARD
BEGIN:DAYLIGHT
TZOFFSETFROM:-0500
TZOFFSETTO:-0400
TZNAME:EDT
DTSTART:20250309T070000
END:DAYLIGHT
BEGIN:STANDARD
TZOFFSETFROM:-0400
TZOFFSETTO:-0500
TZNAME:EST
DTSTART:20251102T060000
END:STANDARD
BEGIN:DAYLIGHT
TZOFFSETFROM:-0500
TZOFFSETTO:-0400
TZNAME:EDT
DTSTART:20260308T070000
END:DAYLIGHT
BEGIN:STANDARD
TZOFFSETFROM:-0400
TZOFFSETTO:-0500
TZNAME:EST
DTSTART:20261101T060000
END:STANDARD
END:VTIMEZONE
BEGIN:VEVENT
DTSTART;VALUE=DATE:20250517
DTEND;VALUE=DATE:20250518
DTSTAMP:20260419T153918
CREATED:20241023T071207Z
LAST-MODIFIED:20250327T064508Z
UID:10000580-1747440000-1747526399@bcmd.org
SUMMARY:Mens Conference 2025
DESCRIPTION:A Man After God’s Own Heart\n			\n				\n				\n				\n				\n				\n					\n					\n						\n						The BCM/D Men’s Conference is designed to equip and empower men to grow in their faith and live out their calling as strong\, godly leaders. This year’s theme\, “A Man after God’s Own Heart\,” will guide participants in deepening their relationship with God and living with purpose and integrity. The conference will feature powerful messages along with breakout sessions that provide practical tools and discussions on how to align your life with God’s heart. Whether you’re seeking spiritual growth or a community of like-minded men\, this conference promises to challenge and encourage every participant in their walk with Christ. \n					\n				\n			\n			\n				\n				\n				\n				\n			\n				\n				\n				\n				\n				\n				\n				\n				\n				\n				\n				Conference Schedule\n			\n			\n				\n				\n				\n				\n			\n				\n				\n				\n				\n				\n				\n				\n				\n				\n				\n				\n					\n					\n						\n						\n8:30 – Registration and Continental Breakfast9:00 – Welcome and Introductions9:10 – Praise and Worship \n9:30 – Main Session #110:15 – Breakout Session #111:30 – Main Session #212:00 – Lunch \n\n					\n				\n			\n			\n				\n				\n				\n				\n				\n				\n				\n				\n				\n				\n					\n					\n						\n						\n1:30 – Praise and Worship \n2:00 – Breakout Session #23:00 – Main Session #33:30 – Commissioning – Jamie Caldwell3:50 – Closing \n\n\n					\n				\n			\n			\n				\n				\n				\n				\n			\n				\n				\n				\n				\n				\n				\n				\n				\n				\n				\n				Our Speakers\n			\n			\n				\n				\n				\n				\n			\n				\n				\n				\n				\n				\n				\n				\n				\n				\n				\n				\n				\n					Joel Kurz\n					\n					Joel Kurz serves as lead pastor at The Garden Church in Baltimore\, MD. He is the executive director of ONE HOPE\, a ministry focusing on planting churches in the poorest urban neighborhoods. Joel additionally serves as the Executive Director for the Baltimore Baptist Association. He is a graduate of Spurgeon Baptist Bible College (BA) and The Southern Baptist Theological Seminary (MDiv). Joel lives with his wife\, Jess\, and their four children in their church’s west Baltimore community. \n					\n				\n			\n			\n				\n				\n				\n				\n				\n				\n				\n				\n				\n				\n				\n					Dan Hyun\n					\n					Pastor Dan Hyun is the founding pastor of The Village Church in Baltimore. He now works with the BCM/D to equip the larger Church to experience God’s formative presence with a vision for deeper reconciliation and mission. Dan is the author of “The Bible in 52 Weeks for Men.” \n					\n				\n			\n			\n				\n				\n				\n				\n				\n				\n				\n				\n				\n				\n				\n					Jamaal E. Williams\n					\n					Jamaal E. Williams is lead pastor of Sojourn Church Midtown in Louisville\, Kentucky\, and president of Harbor Network. He’s a native of Chicago and holds a DEdMin in black church leadership from The Southern Baptist Theological Seminary. Jamaal is the co-author of In Church as It Is in Heaven (InterVarsity\, 2023) a book exploring how the gospel shapes a multiethnic kingdom culture with Timothy Paul Jones. Jamaal and his wife Amber have five children. Parenting and ministry remind him daily to depend on Jesus\, who fuels everything he does. \n					\n				\n			\n			\n				\n				\n				\n				\n			\n				\n				\n				\n				\n				\n				\n				\n				\n				\n				\n				Breakouts\n			\n			\n				\n				\n				\n				\n			\n				\n				\n				\n				\n				\n				\n				\n				\n				\n				\n				\n				\n					All in the Family:  Pastor Colin Pugh\, Clinton Baptist Church\n					\n					This session focuses on how a man can love and lead his family well\, following David’s example as a father\, husband\, and leader. We’ll discuss how to cultivate a godly home\, balance responsibilities\, and model Christ-like love to those entrusted to you. \n					\n				\n			\n				\n				\n				\n				\n				\n				\n					Leading the Mighty Men: Pastor Jamie Caldwell\, South Shore Church\n					\n					Effective leadership is key to influencing those around you. This session will delve into what it means to be a godly leader\, taking inspiration from how David led his mighty men. You’ll learn practical insights for leading with courage\, integrity\, and a heart after God’s own will. \n					\n				\n			\n				\n				\n				\n				\n				\n				\n					Pursuing Peace in a Divided Kingdom: Pastor Keith Myer\, Matthew 5:9\n					\n					In a world full of division\, this session will help men discover how they can be peacemakers\, just as David sought peace in a divided Israel. We’ll explore practical steps for promoting reconciliation\, unity\, and godly peace in our relationships and communities. \n					\n				\n			\n				\n				\n				\n				\n				\n				\n					Stewarding Kingdom Resources: Tom Stolle\, BCM/D\n					\n					This session will teach men how to manage their finances wisely\, offering biblical principles for stewarding resources in a way that honors God. Learn how to align your financial decisions with God’s kingdom priorities and become a faithful steward of the resources He has entrusted to you. \n					\n				\n			\n				\n				\n				\n				\n				\n				\n					Practical Rhythms for the Heart: Dr. Dan Hyun\, BCM/D\n					\n					This session will help men discover and develop regular habits that nurture a heart after God. We’ll explore spiritual disciplines\, daily rhythms\, and practical routines that deepen your relationship with God\, fostering a lifestyle of intentional growth and devotion. \n					\n				\n			\n				\n				\n				\n				\n				\n				\n					Beyond the Trauma - A Man’s Road to Restoration: Pastor Brian Bailey\, L.C.P.C \n					\n					This session will focus on helping men to identify and address personal trauma in order to move towards mental and emotional healthiness.  \n					\n				\n			\n			\n				\n				\n				\n				\n				\n				\n				\n				\n				\n				\n				\n					Physically Fit For Battle:  David Kuti\n					\n					In this session\, we will explore how to be physically fit in life similar to David’s strength and preparation for battle. Learn how maintaining physical health equips us for the challenges of life and strengthens our ability to serve God with energy and resilience. \n					\n				\n			\n				\n				\n				\n				\n				\n				\n					One Generation to the Next: Pastor Adam Muhtaseb\, Redemption City Church\n					\n					This session will focus on how older men and younger men work in partnership in the local church. When older men and younger men work together\, they can strengthen the church\, build lasting relationships\, and pass down a legacy of faith to those who will carry it forward. \n					\n				\n			\n				\n				\n				\n				\n				\n				\n					Making Mighty Men of Valor: Brad Smith\, Men of Valor\n					\n					This session is designed to deepen your understanding of men’s ministry\, equipping you to better minister to and support men in your church. We’ll look at how to raise up men of courage\, faith\, and valor who are ready to take on God’s calling for their lives. \n					\n				\n			\n				\n				\n				\n				\n				\n				\n					Going to War: Pastor Jamaal E. Williams\, Sojourn Church Midtown\n					\n					This session will equip men to confront and overcome the daily temptations that they face. Drawing on biblical principles\, we’ll discuss practical strategies for standing firm in the face of temptation\, strengthening your resolve\, and living with a heart that honors God in every circumstance. \n					\n				\n			\n				\n				\n				\n				\n				\n				\n					Growing Kingdom Resources: Pastor Aaron Groen\, Blue Trust\, INC.\n					\n					In this session\, men will learn how to manage resources not just for personal gain but for kingdom impact. We’ll discuss how to align financial stewardship and other resources with God’s purposes\, empowering you to make a lasting impact beyond your own life and into God’s kingdom. \n					\n				\n			\n			\n				\n				\n				\n				\n			\n				\n				\n				\n				\n				\n				\n				\n				\n				\n				\n				Registering a Group?If registering for a group of 10 or more\, email Margot Painter at mpainter@bcmd.org.  \n				\n			\n			\n				\n				\n				\n				\n			\n				\n				\n				\n				\n				\n				\n				\n				\n				\n				\n				Oops! We could not locate your form. \n			\n			\n				\n				\n				\n				\n			\n				\n				\n			\n				\n				\n				\n				\n				\n				\n				\n				\n				\n				\n				\n				\n				\n				Download Video for Promotion Here!
URL:https://bcmd.org/event/mens-conference-2025/
CATEGORIES:Men's Ministry,Pastors
ATTACH;FMTTYPE=image/png:https://bcmd.org/wp-content/uploads/2025/01/BCM_D-Mens-Conference-2025.png
END:VEVENT
END:VCALENDAR