BEGIN:VCALENDAR
VERSION:2.0
PRODID:-//Baptist Convention of Maryland &amp; Delaware - ECPv6.15.20//NONSGML v1.0//EN
CALSCALE:GREGORIAN
METHOD:PUBLISH
X-WR-CALNAME:Baptist Convention of Maryland &amp; Delaware
X-ORIGINAL-URL:https://bcmd.org
X-WR-CALDESC:Events for Baptist Convention of Maryland &amp; Delaware
REFRESH-INTERVAL;VALUE=DURATION:PT1H
X-Robots-Tag:noindex
X-PUBLISHED-TTL:PT1H
BEGIN:VTIMEZONE
TZID:America/New_York
BEGIN:DAYLIGHT
TZOFFSETFROM:-0500
TZOFFSETTO:-0400
TZNAME:EDT
DTSTART:20250309T070000
END:DAYLIGHT
BEGIN:STANDARD
TZOFFSETFROM:-0400
TZOFFSETTO:-0500
TZNAME:EST
DTSTART:20251102T060000
END:STANDARD
BEGIN:DAYLIGHT
TZOFFSETFROM:-0500
TZOFFSETTO:-0400
TZNAME:EDT
DTSTART:20260308T070000
END:DAYLIGHT
BEGIN:STANDARD
TZOFFSETFROM:-0400
TZOFFSETTO:-0500
TZNAME:EST
DTSTART:20261101T060000
END:STANDARD
BEGIN:DAYLIGHT
TZOFFSETFROM:-0500
TZOFFSETTO:-0400
TZNAME:EDT
DTSTART:20270314T070000
END:DAYLIGHT
BEGIN:STANDARD
TZOFFSETFROM:-0400
TZOFFSETTO:-0500
TZNAME:EST
DTSTART:20271107T060000
END:STANDARD
END:VTIMEZONE
BEGIN:VEVENT
DTSTART;VALUE=DATE:20261109
DTEND;VALUE=DATE:20261111
DTSTAMP:20260420T190300
CREATED:20251023T093902Z
LAST-MODIFIED:20260402T131827Z
UID:10000743-1794182400-1794355199@bcmd.org
SUMMARY:The Gathering 2026
DESCRIPTION:The Gathering is the BCM/D’s annual family meeting where we come together to celebrate all that God has done across our churches. This is a time to hear directly from the BCM/D team as we share stories of how God has moved in 2026\, provide important updates\, and cast vision for what’s coming in 2027. You’ll also have space to connect with pastors\, leaders\, and church members from across Maryland and Delaware\, strengthening relationships and being reminded that you’re part of something bigger. Whether you’re leading\, serving\, or supporting your church\, The Gathering is for you. \n			\n			\n				\n				\n				\n				\n			\n				\n				\n			\n				\n				\n				\n				\n				\n				\n				\n				\n				\n				\n				\n				\n				\n				\n				\n				\n				\n				\n					The Gathering Registration Opens In\n					\n						 \n						Day(s) \n					\n						: \n					\n						 \n						Hour(s) \n					\n						: \n					\n						 \n						Minute(s) \n					\n						: \n					\n						 \n						Second(s) \n					\n				\n			\n			\n				\n				\n				\n				\n			\n				\n				\n			\n				\n				\n				\n				\n				\n				\n				\n				\n				\n				\n				\n				\n				\n				\n				\n				\n				\n				Event Highlights\n			\n				\n				\n				\n				\n				The Gathering is a time to celebrate what God has done\, connect with others serving across BCM/D\, and step away to be encouraged and refreshed for the season ahead. \n			\n			\n				\n				\n				\n				\n				\n				\n				\n				\n				\n				\n					l\n					\n						BCM/D Updates\n						Hear how God has moved across our churches this year and what’s ahead for 2027 from the BCM/D team. \n					\n				\n			\n			\n				\n				\n				\n				\n				\n				\n				\n				\n				\n				\n					\n					\n						Meaningful Connections\n						Build relationships with pastors and leaders from across BCM/D and strengthen your ministry network. \n					\n				\n			\n			\n				\n				\n				\n				\n			\n				\n				\n				\n				\n				\n				\n			\n				\n				\n				\n				\n				\n				\n				\n				\n				\n				\n					z\n					\n						Worship Together\n						Be led in worship by Marcus Akins and Carolina Akins as we gather in unity and praise the Lord. \n					\n				\n			\n			\n				\n				\n				\n				\n				\n				\n				\n				\n				\n				\n					\n					\n						Rest & Refresh\n						Step away from the noise of ministry life to rest\, recharge\, and return encouraged. \n					\n				\n			\n			\n				\n				\n				\n				\n			\n				\n				\n			\n				\n				\n				\n				\n				\n				\n				\n				\n				\n				\n				\n				\n				\n				\n				\n				\n				\n				What You Can Expect\n			\n			\n				\n				\n				\n				\n			\n				\n				\n				\n				\n				\n				\n				\n				\n				\n				\n				Important Business Sessions\n			\n				\n				\n				\n				\n				\n2027 Proposed Budget\nBaptist Foundation Report\nElection of Officers\nAffirmation of Committee Appointments\nPresident’s Address\nExecutive Director’s Address\n\n			\n			\n				\n				\n				\n				\n				\n				\n				\n				\n				\n				Hear From The BCM/D Team\n			\n				\n				\n				\n				\n				\nFormation and Health Team Report\nChurch Strengthening Team Report\nMobilization and Planting Team Report\nMissional Impact Team Report\nOperations and Communications Reports\n\n			\n			\n				\n				\n				\n				\n				\n				\n				\n				\n				\n				Special Gatherings\n			\n				\n				\n				\n				\n				\nPastors & Pastors’ Wives Dinner\nBCM/D Women Meet Up\nNext Gen Leader Meet Up\nAfrican American Fellowship Meet Up\nAssociational Prayer Breakfast\nAnd more…\n\n			\n			\n				\n				\n				\n				\n			\n				\n				\n			\n				\n				\n				\n				\n				\n				\n				\n				\n				\n				\n				\n				\n				\n				\n				\n				\n				\n				Registration Opens Soon!\n			\n			\n				\n				\n				\n				\n			\n				\n				\n				\n				\n				\n				\n				\n				\n				\n				\n				Come back July 1st to save your seat at The Gathering! We can’t wait to see you in Annapolis!
URL:https://bcmd.org/event/the-gathering/
CATEGORIES:Featured
ATTACH;FMTTYPE=image/png:https://bcmd.org/wp-content/uploads/2025/10/Projects-1.png
END:VEVENT
END:VCALENDAR