BEGIN:VCALENDAR
VERSION:2.0
PRODID:-//Baptist Convention of Maryland &amp; Delaware - ECPv6.15.20//NONSGML v1.0//EN
CALSCALE:GREGORIAN
METHOD:PUBLISH
X-ORIGINAL-URL:https://bcmd.org
X-WR-CALDESC:Events for Baptist Convention of Maryland &amp; Delaware
REFRESH-INTERVAL;VALUE=DURATION:PT1H
X-Robots-Tag:noindex
X-PUBLISHED-TTL:PT1H
BEGIN:VTIMEZONE
TZID:America/New_York
BEGIN:DAYLIGHT
TZOFFSETFROM:-0500
TZOFFSETTO:-0400
TZNAME:EDT
DTSTART:20250309T070000
END:DAYLIGHT
BEGIN:STANDARD
TZOFFSETFROM:-0400
TZOFFSETTO:-0500
TZNAME:EST
DTSTART:20251102T060000
END:STANDARD
BEGIN:DAYLIGHT
TZOFFSETFROM:-0500
TZOFFSETTO:-0400
TZNAME:EDT
DTSTART:20260308T070000
END:DAYLIGHT
BEGIN:STANDARD
TZOFFSETFROM:-0400
TZOFFSETTO:-0500
TZNAME:EST
DTSTART:20261101T060000
END:STANDARD
BEGIN:DAYLIGHT
TZOFFSETFROM:-0500
TZOFFSETTO:-0400
TZNAME:EDT
DTSTART:20270314T070000
END:DAYLIGHT
BEGIN:STANDARD
TZOFFSETFROM:-0400
TZOFFSETTO:-0500
TZNAME:EST
DTSTART:20271107T060000
END:STANDARD
END:VTIMEZONE
BEGIN:VEVENT
DTSTART;TZID=America/New_York:20260108T113000
DTEND;TZID=America/New_York:20260108T130000
DTSTAMP:20260421T011528
CREATED:20250617T165920Z
LAST-MODIFIED:20260103T162812Z
UID:10000683-1767871800-1767877200@bcmd.org
SUMMARY:Evangelism Encouragement Lunches with Mark
DESCRIPTION:When: 11:30 am – 1:00 pm\nDates & Locations:\n\n6/5/25 – Western Association – The Casselman Inn (113 Main Street\, Grantsville\, MD)\n7/17/25 – Mid-Maryland Association – Chili’s Grill and Bar (1312 Londontown Blvd\, Eldersburg\, MD)\n8/14/25 – Blue Ridge Association – Cracker Barrel (18214 Col. HK Douglas Dr.\, Hagerstown)\n9/18/25 – Eastern Association – Roadie Joes (525 S. Main St.\, Berlin\, MD)\n10/16/25 – Susquehanna Association – Mission BBQ (627 Bel Air Road Bel Air\, MD 21014)\n11/20/25 – Montgomery Association – Gentleman Jim’s (18257 Flower Hill Way\, Gaithersburg\, MD)\n1/08/26 – Baltimore Association – Jesus Our Redeemer Church\n1/15/26 – Arundel Association – Romilo’s Restaurant (478 Ritchie Hwy.\, Severna Park\, MD)\n\n*Future Associational locations to be determined. Stay tuned!* \n\n\n                \n                        \n                            Pastor… we want to connect with you and talk about evangelism. Mark Dooley\, BCM/D Associate Executive Director and State Director of Evangelism would love to treat the pastors of the BCM/D churches to lunch. We will talk about evangelism efforts taking place in our churches and seek to\, as the Scripture says\, “encourage one another.” Complete the form below if you plan to attend! \n                        					\n						Δ\n						\n						\n\n					\n                        Name(Required)\n                            \n                            \n                                                    \n                                                    First\n                                                \n                            \n                            \n                                                    \n                                                    Last\n                                                \n                            \n                        Email(Required)\n                            \n                        Mobile Phone(Required)Church Name(Required)Choose Your Date and Location(Required)Select One4/24/25 - Potomac Association5/15/25 - Prince Georges Association6/5/25 - Western Association7/17/25 - Mid-Maryland Association8/14/25 - Blue Ridge Association9/18/25 - Eastern Association10/16/25 - Susquehanna Association11/20/25 - Montgomery Association1/08/26 - Baltimore Association1/15/26 - Arundel Association\n\nSubmit
URL:https://bcmd.org/event/evangelism-encouragement-lunch-with-mark-2/
CATEGORIES:Evangelism
ATTACH;FMTTYPE=image/jpeg:https://bcmd.org/wp-content/uploads/2024/03/20250516-_N0A8393.jpg
END:VEVENT
END:VCALENDAR