BEGIN:VCALENDAR
VERSION:2.0
PRODID:-//Baptist Convention of Maryland &amp; Delaware - ECPv6.15.20//NONSGML v1.0//EN
CALSCALE:GREGORIAN
METHOD:PUBLISH
X-ORIGINAL-URL:https://bcmd.org
X-WR-CALDESC:Events for Baptist Convention of Maryland &amp; Delaware
REFRESH-INTERVAL;VALUE=DURATION:PT1H
X-Robots-Tag:noindex
X-PUBLISHED-TTL:PT1H
BEGIN:VTIMEZONE
TZID:America/New_York
BEGIN:DAYLIGHT
TZOFFSETFROM:-0500
TZOFFSETTO:-0400
TZNAME:EDT
DTSTART:20240310T070000
END:DAYLIGHT
BEGIN:STANDARD
TZOFFSETFROM:-0400
TZOFFSETTO:-0500
TZNAME:EST
DTSTART:20241103T060000
END:STANDARD
BEGIN:DAYLIGHT
TZOFFSETFROM:-0500
TZOFFSETTO:-0400
TZNAME:EDT
DTSTART:20250309T070000
END:DAYLIGHT
BEGIN:STANDARD
TZOFFSETFROM:-0400
TZOFFSETTO:-0500
TZNAME:EST
DTSTART:20251102T060000
END:STANDARD
BEGIN:DAYLIGHT
TZOFFSETFROM:-0500
TZOFFSETTO:-0400
TZNAME:EDT
DTSTART:20260308T070000
END:DAYLIGHT
BEGIN:STANDARD
TZOFFSETFROM:-0400
TZOFFSETTO:-0500
TZNAME:EST
DTSTART:20261101T060000
END:STANDARD
END:VTIMEZONE
BEGIN:VEVENT
DTSTART;TZID=America/New_York:20250221T110000
DTEND;TZID=America/New_York:20250221T120000
DTSTAMP:20260422T002713
CREATED:20250116T123724Z
LAST-MODIFIED:20250218T191817Z
UID:10000667-1740135600-1740139200@bcmd.org
SUMMARY:Send BCM/D Prayer Gathering
DESCRIPTION:In the Gospel of Matthew\, Jesus tells us that the harvest is plentiful\, but the laborers are few. Then\, he commands us to pray that the Lord of the harvest would raise up more laborers. So\, that is what we’re asking you to do:\nWill you join your SEND BCM/D team and pray that God will raise up more laborers? Join us at one of our four gatherings across MD/DE to seek God and his will for our region. \nThe prayer gathering is open to all – pastors\, ministry leaders\, church members\, church attendees – as anyone can be a part of church planting and revitalization! \nTuesday\, February 18th\, 11am | South Shore Church\, Crownsville\, MD\nWednesday\, February 19th\, 11am | LifeHouse MOT\, Townsend\, DE\nThursday\, February 20th\, 11am | Hagerstown Church\, Hagerstown\, MD\nFriday\, February 21st\, 11am | Canvas Church\, Salisbury\, MD
URL:https://bcmd.org/event/send-bcm-d-prayer-gathering/2025-02-21/
LOCATION:MD
CATEGORIES:Church Planting
ATTACH;FMTTYPE=image/png:https://bcmd.org/wp-content/uploads/2025/01/Untitled-1080-x-810-px-1920-x-1080-px.png
END:VEVENT
END:VCALENDAR