BEGIN:VCALENDAR
VERSION:2.0
PRODID:-//Baptist Convention of Maryland &amp; Delaware - ECPv6.15.20//NONSGML v1.0//EN
CALSCALE:GREGORIAN
METHOD:PUBLISH
X-WR-CALNAME:Baptist Convention of Maryland &amp; Delaware
X-ORIGINAL-URL:https://bcmd.org
X-WR-CALDESC:Events for Baptist Convention of Maryland &amp; Delaware
REFRESH-INTERVAL;VALUE=DURATION:PT1H
X-Robots-Tag:noindex
X-PUBLISHED-TTL:PT1H
BEGIN:VTIMEZONE
TZID:America/New_York
BEGIN:DAYLIGHT
TZOFFSETFROM:-0500
TZOFFSETTO:-0400
TZNAME:EDT
DTSTART:20240310T070000
END:DAYLIGHT
BEGIN:STANDARD
TZOFFSETFROM:-0400
TZOFFSETTO:-0500
TZNAME:EST
DTSTART:20241103T060000
END:STANDARD
BEGIN:DAYLIGHT
TZOFFSETFROM:-0500
TZOFFSETTO:-0400
TZNAME:EDT
DTSTART:20250309T070000
END:DAYLIGHT
BEGIN:STANDARD
TZOFFSETFROM:-0400
TZOFFSETTO:-0500
TZNAME:EST
DTSTART:20251102T060000
END:STANDARD
BEGIN:DAYLIGHT
TZOFFSETFROM:-0500
TZOFFSETTO:-0400
TZNAME:EDT
DTSTART:20260308T070000
END:DAYLIGHT
BEGIN:STANDARD
TZOFFSETFROM:-0400
TZOFFSETTO:-0500
TZNAME:EST
DTSTART:20261101T060000
END:STANDARD
END:VTIMEZONE
BEGIN:VEVENT
DTSTART;TZID=America/New_York:20250919T190000
DTEND;TZID=America/New_York:20250919T203000
DTSTAMP:20260421T120643
CREATED:20250723T145057Z
LAST-MODIFIED:20250723T145649Z
UID:10000698-1758308400-1758313800@bcmd.org
SUMMARY:SEND BCM/D: For The Kingdom
DESCRIPTION:For The Kingdom is on Friday\, September 19\, at 7pm-8:30pm at Redemption City Church. Childcare will be provided\, and we will have light refreshments. Our vision for this event is to create a culture of collaboration among the churches. This collaboration aims to see Maryland and Delaware saturated with the gospel by raising up church planters and church planting team members from within our congregations\, developing them\, and sending them out to plant more churches. Every church member has a role to play in this whether it is through going\, supporting\, or praying! We would love to invite you to what God is doing in our area! \nRegister using this link here: Sign Up Now!
URL:https://bcmd.org/event/for-the-kingdom/
LOCATION:Redemption City Church\, 3301 Eastern Avenue\, Baltimore\, Maryland\, 21224\, United States
CATEGORIES:Church Planting
ATTACH;FMTTYPE=image/jpeg:https://bcmd.org/wp-content/uploads/2025/07/for-the-kingdom-event.jpg
END:VEVENT
END:VCALENDAR