BEGIN:VCALENDAR
VERSION:2.0
PRODID:-//Baptist Convention of Maryland &amp; Delaware - ECPv6.15.20//NONSGML v1.0//EN
CALSCALE:GREGORIAN
METHOD:PUBLISH
X-WR-CALNAME:Baptist Convention of Maryland &amp; Delaware
X-ORIGINAL-URL:https://bcmd.org
X-WR-CALDESC:Events for Baptist Convention of Maryland &amp; Delaware
REFRESH-INTERVAL;VALUE=DURATION:PT1H
X-Robots-Tag:noindex
X-PUBLISHED-TTL:PT1H
BEGIN:VTIMEZONE
TZID:America/New_York
BEGIN:DAYLIGHT
TZOFFSETFROM:-0500
TZOFFSETTO:-0400
TZNAME:EDT
DTSTART:20240310T070000
END:DAYLIGHT
BEGIN:STANDARD
TZOFFSETFROM:-0400
TZOFFSETTO:-0500
TZNAME:EST
DTSTART:20241103T060000
END:STANDARD
BEGIN:DAYLIGHT
TZOFFSETFROM:-0500
TZOFFSETTO:-0400
TZNAME:EDT
DTSTART:20250309T070000
END:DAYLIGHT
BEGIN:STANDARD
TZOFFSETFROM:-0400
TZOFFSETTO:-0500
TZNAME:EST
DTSTART:20251102T060000
END:STANDARD
BEGIN:DAYLIGHT
TZOFFSETFROM:-0500
TZOFFSETTO:-0400
TZNAME:EDT
DTSTART:20260308T070000
END:DAYLIGHT
BEGIN:STANDARD
TZOFFSETFROM:-0400
TZOFFSETTO:-0500
TZNAME:EST
DTSTART:20261101T060000
END:STANDARD
END:VTIMEZONE
BEGIN:VEVENT
DTSTART;TZID=America/New_York:20250716T120000
DTEND;TZID=America/New_York:20250716T150000
DTSTAMP:20260421T152937
CREATED:20250528T112702Z
LAST-MODIFIED:20250701T195314Z
UID:10000693-1752667200-1752678000@bcmd.org
SUMMARY:Send BCM/D Lunch
DESCRIPTION:You’re invited to Send BCM/D’s Lunch! Join us for leadership coaching\, growth training\, and practical resources to help you raise up leaders from the harvest for the harvest. Invite anyone in your church involved in developing leaders—pastors\, staff\, ministry leaders\, student directors—everyone is welcome! \nThis event is at 12pm on July 16th at South Shore Church\, 725 Herald Harbor Rd\, Crownsville\, MD 21032. \nSpace is limited\, so sign up soon! Free lunch provided for all registrants. \nFor more information or questions\, please reach out to Payton Pope at ppope@bcmd.org \n  \nOops! We could not locate your form.
URL:https://bcmd.org/event/send-bcm-d-lunch/
LOCATION:South Shore Church\, 725 Herald Harbor Rd\, Crownsville\, MD\, 21032\, United States
CATEGORIES:Church Planting
ATTACH;FMTTYPE=image/jpeg:https://bcmd.org/wp-content/uploads/2023/09/Richard-Pope-photo.jpeg
END:VEVENT
END:VCALENDAR