BEGIN:VCALENDAR
VERSION:2.0
PRODID:-//Baptist Convention of Maryland &amp; Delaware - ECPv6.15.20//NONSGML v1.0//EN
CALSCALE:GREGORIAN
METHOD:PUBLISH
X-WR-CALNAME:Baptist Convention of Maryland &amp; Delaware
X-ORIGINAL-URL:https://bcmd.org
X-WR-CALDESC:Events for Baptist Convention of Maryland &amp; Delaware
REFRESH-INTERVAL;VALUE=DURATION:PT1H
X-Robots-Tag:noindex
X-PUBLISHED-TTL:PT1H
BEGIN:VTIMEZONE
TZID:America/New_York
BEGIN:DAYLIGHT
TZOFFSETFROM:-0500
TZOFFSETTO:-0400
TZNAME:EDT
DTSTART:20240310T070000
END:DAYLIGHT
BEGIN:STANDARD
TZOFFSETFROM:-0400
TZOFFSETTO:-0500
TZNAME:EST
DTSTART:20241103T060000
END:STANDARD
BEGIN:DAYLIGHT
TZOFFSETFROM:-0500
TZOFFSETTO:-0400
TZNAME:EDT
DTSTART:20250309T070000
END:DAYLIGHT
BEGIN:STANDARD
TZOFFSETFROM:-0400
TZOFFSETTO:-0500
TZNAME:EST
DTSTART:20251102T060000
END:STANDARD
BEGIN:DAYLIGHT
TZOFFSETFROM:-0500
TZOFFSETTO:-0400
TZNAME:EDT
DTSTART:20260308T070000
END:DAYLIGHT
BEGIN:STANDARD
TZOFFSETFROM:-0400
TZOFFSETTO:-0500
TZNAME:EST
DTSTART:20261101T060000
END:STANDARD
END:VTIMEZONE
BEGIN:VEVENT
DTSTART;TZID=America/New_York:20251119T120000
DTEND;TZID=America/New_York:20251119T140000
DTSTAMP:20260421T013507
CREATED:20250701T202041Z
LAST-MODIFIED:20250818T132217Z
UID:10000622-1763553600-1763560800@bcmd.org
SUMMARY:Connect Lunches with Kris
DESCRIPTION:When: Noon\nDates & Locations: \n\nJanuary 29 – Arundel Baptist Association\nMission BBQ\n2101 Somerville Road\, Suite 105\nAnnapolis\, MD 21401\nFebruary 19 – Baltimore Baptist Association\nMission BBQ\n3701 Boston Street\nBaltimore\, MD 21224\nMarch 12 – Blue Ridge Baptist Association\nMission BBQ\n5102 Pegasus Court\, Suite 101\nFrederick\, MD 21704\nMarch 19 – Blue Ridge Baptist Association\nMission BBQ\n17301 Valley Mall Road\, Suite 106\nHagerstown\, MD 21740\nApril 9 – Delaware Baptist Association\nMission BBQ\n365 N Dupont Highway\nDover\, DE 19901\nMay 14 – Eastern Baptist Association\nMission BBQ\n2618 N Salisbury Blvd\nSalisbury\, MD 21801\nMay 28 – Mid-Maryland Baptist Association\nMission BBQ\n3410 Plum Tree Drive\nEllicott City\, MD 21042\nAugust 13 – Mid-Maryland Baptist Association\nMission BBQ\n584 Jermor Lane West\nWestminster\, MD 21157\nAugust 25 – Montgomery Baptist Association\nMission BBQ\n885 Rockville Pike\nRockville\, MD 20852\nSeptember 9 – Prince George’s Baptist Association\nMission BBQ\n5506 Cherrywood Lane\, Suite A\nGreenbelt\, MD 20770\nSeptember 24 – Potomac Baptist Association\nMission BBQ\n3082 Festival Way\nWaldorf\, MD 20601\nOctober 1 – Potomac Baptist Association\nMission BBQ\n22599 MacArthur Blvd.\, Suite 136 B\nCalifornia\, MD 20619\nOctober 22 – Western Baptist Association\nApplebee’s\n12201 Winchester Rd SW\,\nLa Vale\, MD 21502\nNovember 19 – Susquehanna Baptist Association\nMission BBQ\n627 Bel Air Rd\nBel Air\, MD 21014\n\n\nOops! We could not locate your form.
URL:https://bcmd.org/event/connect-lunches-with-kris-2/2025-11-19/
CATEGORIES:Children's Ministry,Youth Ministry
ATTACH;FMTTYPE=image/jpeg:https://bcmd.org/wp-content/uploads/2024/06/Kris-revivejpg.jpg
END:VEVENT
END:VCALENDAR