BEGIN:VCALENDAR
VERSION:2.0
PRODID:-//Baptist Convention of Maryland &amp; Delaware - ECPv6.15.20//NONSGML v1.0//EN
CALSCALE:GREGORIAN
METHOD:PUBLISH
X-ORIGINAL-URL:https://bcmd.org
X-WR-CALDESC:Events for Baptist Convention of Maryland &amp; Delaware
REFRESH-INTERVAL;VALUE=DURATION:PT1H
X-Robots-Tag:noindex
X-PUBLISHED-TTL:PT1H
BEGIN:VTIMEZONE
TZID:America/New_York
BEGIN:DAYLIGHT
TZOFFSETFROM:-0500
TZOFFSETTO:-0400
TZNAME:EDT
DTSTART:20240310T070000
END:DAYLIGHT
BEGIN:STANDARD
TZOFFSETFROM:-0400
TZOFFSETTO:-0500
TZNAME:EST
DTSTART:20241103T060000
END:STANDARD
BEGIN:DAYLIGHT
TZOFFSETFROM:-0500
TZOFFSETTO:-0400
TZNAME:EDT
DTSTART:20250309T070000
END:DAYLIGHT
BEGIN:STANDARD
TZOFFSETFROM:-0400
TZOFFSETTO:-0500
TZNAME:EST
DTSTART:20251102T060000
END:STANDARD
BEGIN:DAYLIGHT
TZOFFSETFROM:-0500
TZOFFSETTO:-0400
TZNAME:EDT
DTSTART:20260308T070000
END:DAYLIGHT
BEGIN:STANDARD
TZOFFSETFROM:-0400
TZOFFSETTO:-0500
TZNAME:EST
DTSTART:20261101T060000
END:STANDARD
END:VTIMEZONE
BEGIN:VEVENT
DTSTART;TZID=America/New_York:20250426T090000
DTEND;TZID=America/New_York:20250426T120000
DTSTAMP:20260421T121148
CREATED:20250107T074214Z
LAST-MODIFIED:20250423T150834Z
UID:10000630-1745658000-1745668800@bcmd.org
SUMMARY:Magnify Your VBS: Preview and Training!
DESCRIPTION:Magnify Your VBS: Preview & Training Event!\n\nGet ready to MAGNIFY your Vacation Bible School experience this year! Join us for an inspiring event where we’ll unveil the VBS content\, explore creative ways to bring the theme to life\, and provide valuable training to equip your team for success. \nDiscover: Get a sneak peek at this year’s curriculum and dive into the theme designed to engage and excite kids.\nLearn: Participate in hands-on training to sharpen your skills and bring out the best in your VBS planning.\nConnect: Network with other ministry leaders and volunteers\, share ideas\, and be encouraged as you prepare to impact the next generation. \n\n\nLet’s MAGNIFY God’s love and truth together through VBS in 2025—don’t miss out! \nThe cost is only $10 per person and and there are several dates and locations to choose from: \nOak Grove Baptist Church\n2106 Churchville Rd.\nBel Air\, MD 21015\nFebruary 15\, 2025\,  9AM-Noon \nCanvas Church\n219 N. Division St.\nSalisbury\, MD 21801\nFebruary 22\, 2025\,  9AM-Noon \nLexington Park Baptist Church\n46855 S Shangri-La Dr.\nLexington Park\, MD 20653\nMarch 15\, 9AM-Noon \nFirst English Baptist Church\n136 E. Main St.\nFrostburg\, MD 21532\nMarch 28\, 2025\, 5:30-9PM \nGeorgia Avenue Baptist Church\n12525 Georgia Ave.\nSilver Spring\, MD 20906\nApril 5\, 9AM-Noon \nCatonsville Baptist Church\n1004 Frederick Rd.\nCatonsville\, MD 21228\nApril 12\, 9AM-Noon \nWeems Creek Baptist Church\n600 N. Bestgate Rd.\nAnnapolis\, MD 21401\nApril 26\, 9AM-Noon \n\nRegistration for this event has closed. We look forward to seeing you next year!\n\nOops! We could not locate your form.
URL:https://bcmd.org/event/magnify-your-vbs-preview-training/2025-04-26/
CATEGORIES:Children's Ministry,VBS
ATTACH;FMTTYPE=image/jpeg:https://bcmd.org/wp-content/uploads/2025/01/Magnify-your-VBS-Presentation.jpg
END:VEVENT
END:VCALENDAR