BEGIN:VCALENDAR
VERSION:2.0
PRODID:-//Baptist Convention of Maryland &amp; Delaware - ECPv6.15.20//NONSGML v1.0//EN
CALSCALE:GREGORIAN
METHOD:PUBLISH
X-WR-CALNAME:Baptist Convention of Maryland &amp; Delaware
X-ORIGINAL-URL:https://bcmd.org
X-WR-CALDESC:Events for Baptist Convention of Maryland &amp; Delaware
REFRESH-INTERVAL;VALUE=DURATION:PT1H
X-Robots-Tag:noindex
X-PUBLISHED-TTL:PT1H
BEGIN:VTIMEZONE
TZID:America/New_York
BEGIN:DAYLIGHT
TZOFFSETFROM:-0500
TZOFFSETTO:-0400
TZNAME:EDT
DTSTART:20240310T070000
END:DAYLIGHT
BEGIN:STANDARD
TZOFFSETFROM:-0400
TZOFFSETTO:-0500
TZNAME:EST
DTSTART:20241103T060000
END:STANDARD
BEGIN:DAYLIGHT
TZOFFSETFROM:-0500
TZOFFSETTO:-0400
TZNAME:EDT
DTSTART:20250309T070000
END:DAYLIGHT
BEGIN:STANDARD
TZOFFSETFROM:-0400
TZOFFSETTO:-0500
TZNAME:EST
DTSTART:20251102T060000
END:STANDARD
BEGIN:DAYLIGHT
TZOFFSETFROM:-0500
TZOFFSETTO:-0400
TZNAME:EDT
DTSTART:20260308T070000
END:DAYLIGHT
BEGIN:STANDARD
TZOFFSETFROM:-0400
TZOFFSETTO:-0500
TZNAME:EST
DTSTART:20261101T060000
END:STANDARD
END:VTIMEZONE
BEGIN:VEVENT
DTSTART;TZID=America/New_York:20250220T110000
DTEND;TZID=America/New_York:20250220T123000
DTSTAMP:20260421T153759
CREATED:20250210T165011Z
LAST-MODIFIED:20250219T153208Z
UID:10000670-1740049200-1740054600@bcmd.org
SUMMARY:3rd Thursday Conversations
DESCRIPTION:Join us for our first 3rd Thursday Conversation of 2025! Melanie Hester\, AWANA’s Director of Discipleship Engagement\, will introduce the new Formational Home Event Kit\, designed to help parents confidently disciple their children and create a personalized faith formation plan. \nFeb. 20\, 2025\, 11AM LIVE in the Facebook Youth & Kids Page
URL:https://bcmd.org/event/3rd-thursday-conversations/
CATEGORIES:Children's Ministry
ATTACH;FMTTYPE=image/png:https://bcmd.org/wp-content/uploads/2025/01/3rd-Thursday-Conversations.png
END:VEVENT
END:VCALENDAR