BEGIN:VCALENDAR
VERSION:2.0
PRODID:-//Baptist Convention of Maryland &amp; Delaware - ECPv6.15.20//NONSGML v1.0//EN
CALSCALE:GREGORIAN
METHOD:PUBLISH
X-WR-CALNAME:Baptist Convention of Maryland &amp; Delaware
X-ORIGINAL-URL:https://bcmd.org
X-WR-CALDESC:Events for Baptist Convention of Maryland &amp; Delaware
REFRESH-INTERVAL;VALUE=DURATION:PT1H
X-Robots-Tag:noindex
X-PUBLISHED-TTL:PT1H
BEGIN:VTIMEZONE
TZID:America/New_York
BEGIN:DAYLIGHT
TZOFFSETFROM:-0500
TZOFFSETTO:-0400
TZNAME:EDT
DTSTART:20230312T070000
END:DAYLIGHT
BEGIN:STANDARD
TZOFFSETFROM:-0400
TZOFFSETTO:-0500
TZNAME:EST
DTSTART:20231105T060000
END:STANDARD
BEGIN:DAYLIGHT
TZOFFSETFROM:-0500
TZOFFSETTO:-0400
TZNAME:EDT
DTSTART:20240310T070000
END:DAYLIGHT
BEGIN:STANDARD
TZOFFSETFROM:-0400
TZOFFSETTO:-0500
TZNAME:EST
DTSTART:20241103T060000
END:STANDARD
BEGIN:DAYLIGHT
TZOFFSETFROM:-0500
TZOFFSETTO:-0400
TZNAME:EDT
DTSTART:20250309T070000
END:DAYLIGHT
BEGIN:STANDARD
TZOFFSETFROM:-0400
TZOFFSETTO:-0500
TZNAME:EST
DTSTART:20251102T060000
END:STANDARD
END:VTIMEZONE
BEGIN:VEVENT
DTSTART;TZID=America/New_York:20240224T090000
DTEND;TZID=America/New_York:20240224T140000
DTSTAMP:20260422T093742
CREATED:20240116T153206Z
LAST-MODIFIED:20240125T225401Z
UID:10000151-1708765200-1708783200@bcmd.org
SUMMARY:2024 VBS Workshop
DESCRIPTION:Saturday\, February 24\n9:00 AM – 2:00 PM\nFirst Baptist Church Pocomoke\n \nAre you ready for VBS 2024? No matter what stage you’re at in planning\, this workshop is designed to help you build an amazing vacation Bible school at your church! This workshop will help equip your church leadership and volunteers to host a safe\, effective\, and unforgettable VBS for your church and community!\n \nSchedule:\n9:00-9:15 – Check-In\n9:15-9:30 – Welcome\n9:35-10:20 – Breakout Session 1\n10:25-11:10 – Breakout Session 2\n11:15-12:00 – Breakout Session 3\n12:00-1:00 – Lunch & Panel Discussion\n1:00-1:45 – Roundtable Discussions\n1:45-2:00 – Closing\n \nBreakout Sessions\, roundtable discussions\, and Panel Q&A will cover a variety of topics\, including promotion/follow-up\, sharing the gospel with kids\, teaching the Bible to kids\, prayer strategies for VBS\, preparing for special needs children\, building a VBS team\, budget-friendly VBS ideas\, safety and security at VBS\, and more!\n \nWe’re excited to bring you the following breakout presenters:\nTanya Area\, Director of Children’s Ministry\, First Baptist Church Pocomoke City\nKris Buckman\, Youth & Kids Missionary\, BCM/D\nShannon Diehl\, Children’s Ministry\, Berlin Baptist Church\nAdron Dozat\, Prayer Coordinator\, BCM/D\nJancy Glisson\, Director of the Salisbury Christian School Early Learning Center\nKatie Matthews\, Disability Ministry Missionary\, BCM/D\nLaurie Zimmerman\, Children & Youth Ministry Director\, Lynnhaven Baptist Church\n \nWe’d LOVE to see YOU and your team there!\n \n \nOops! We could not locate your form. 2024 VBS Workshop
URL:https://bcmd.org/event/2024-vbs-workshop/
LOCATION:First Baptist Church Pocomoke CIty\, 204 4th St.\, Pocomoke City\, MD\, 21851\, United States
CATEGORIES:Children's Ministry,VBS
ATTACH;FMTTYPE=image/png:https://bcmd.org/wp-content/uploads/2024/01/vbs-workshop-1-e1705424173145.png
END:VEVENT
END:VCALENDAR