BEGIN:VCALENDAR
VERSION:2.0
PRODID:-//Baptist Convention of Maryland &amp; Delaware - ECPv6.15.20//NONSGML v1.0//EN
CALSCALE:GREGORIAN
METHOD:PUBLISH
X-ORIGINAL-URL:https://bcmd.org
X-WR-CALDESC:Events for Baptist Convention of Maryland &amp; Delaware
REFRESH-INTERVAL;VALUE=DURATION:PT1H
X-Robots-Tag:noindex
X-PUBLISHED-TTL:PT1H
BEGIN:VTIMEZONE
TZID:America/New_York
BEGIN:DAYLIGHT
TZOFFSETFROM:-0500
TZOFFSETTO:-0400
TZNAME:EDT
DTSTART:20230312T070000
END:DAYLIGHT
BEGIN:STANDARD
TZOFFSETFROM:-0400
TZOFFSETTO:-0500
TZNAME:EST
DTSTART:20231105T060000
END:STANDARD
BEGIN:DAYLIGHT
TZOFFSETFROM:-0500
TZOFFSETTO:-0400
TZNAME:EDT
DTSTART:20240310T070000
END:DAYLIGHT
BEGIN:STANDARD
TZOFFSETFROM:-0400
TZOFFSETTO:-0500
TZNAME:EST
DTSTART:20241103T060000
END:STANDARD
BEGIN:DAYLIGHT
TZOFFSETFROM:-0500
TZOFFSETTO:-0400
TZNAME:EDT
DTSTART:20250309T070000
END:DAYLIGHT
BEGIN:STANDARD
TZOFFSETFROM:-0400
TZOFFSETTO:-0500
TZNAME:EST
DTSTART:20251102T060000
END:STANDARD
END:VTIMEZONE
BEGIN:VEVENT
DTSTART;TZID=America/New_York:20240213T190000
DTEND;TZID=America/New_York:20240213T200000
DTSTAMP:20260422T094033
CREATED:20240112T200600Z
LAST-MODIFIED:20240112T200605Z
UID:10000146-1707850800-1707854400@bcmd.org
SUMMARY:2024 Spring Preschool Cohort
DESCRIPTION:Jesus Loves Preschoolers Online Cohort\n7-8 PM – Zoom Tuesday\, Feb. 13Tuesday\, Feb. 20Tuesday\, Feb. 27Tuesday\, Mar. 5  \nCalling all preschool ministry staff and volunteers! Get set to hop on board with Josh Zello from PreschoolPastor.com for an exciting ride with the “Jesus Loves Preschoolers” online cohort – trust us\, it’s going to be a blast that you won’t want to miss! Together\, in a tight-knit group\, we’re going on an adventure to uncover the magic of gospel-centered preschool ministry. \nWeek 1: We’re peeling back the curtain to reveal the wonder of gospel-centered preschool ministry – it’s like discovering a treasure map to little hearts! And here’s the secret: it’s worth every ounce of effort. \nWeek 2: “Childcare” isn’t a bad word. Let’s give childcare a fantastic makeover – imagine providing childcare that’s not just good but absolutely top-notch! \nWeek 3: Buckle up for a deep dive into purposeful play. Whether it’s a Sunday morning gathering or a VBS with preschoolers in mind\, they need you to engage them in play– the kind that ignites imaginations and nurtures curious minds. It’s more than fun; it’s a chance to help little ones blossom. \nWeek 4: We’ll equip you with tips and tricks to manage your classroom like a pro\, making every day smooth sailing. Remember\, this isn’t just another cohort – it’s a dynamic\, engaging journey guaranteed to fill your toolbox with ideas and your heart with inspiration. \nDon’t let this adventure pass you by! Sign up today\, and let’s create a preschool ministry bursting with joy\, excitement\, and the love of Jesus! \n			\n				\n				\n				\n				\n				\n				\n					Josh Zello\n					Family Ministry Director / Redemption City Church \n					Josh Zello has been married to his best friend\, Hannah\, for five years\, and they have a two-year-old little girl named Avery. Early childhood proves to be a critical stage of life. Preschoolers learn an incredible amount in such a short span\, presenting a prime opportunity to present the teachings of Jesus in tangible and pragmatic ways. Due to this\, he has dedicated over ten years to serving in preschool ministry\, lending his efforts to churches ranging in size from 17\,000 attendees to as few as 250. His passion lies in crafting gospel-centered\, developmentally appropriate\, and thriving preschool ministries. \n					\n				\n			\n			\n				\n				\n				\n				\n			\n				\n				\n				\n				\n				\n				\n				\n				\n				\n				\n				Cost: $30\n			\n			\n				\n				\n				\n				\n				\n			\n				\n				\n				\n				\n			\n				\n				\n				\n				\n				\n				\n				\n				\n				\n				\n				\n				\n				\n					 Oops! We could not locate your form.
URL:https://bcmd.org/event/2024springpreschool-cohort/
LOCATION:Online Cohort
CATEGORIES:Children's Ministry
ATTACH;FMTTYPE=image/png:https://bcmd.org/wp-content/uploads/2023/08/preschool-feature.png
END:VEVENT
END:VCALENDAR