BEGIN:VCALENDAR
VERSION:2.0
PRODID:-//Baptist Convention of Maryland &amp; Delaware - ECPv6.15.20//NONSGML v1.0//EN
CALSCALE:GREGORIAN
METHOD:PUBLISH
X-WR-CALNAME:Baptist Convention of Maryland &amp; Delaware
X-ORIGINAL-URL:https://bcmd.org
X-WR-CALDESC:Events for Baptist Convention of Maryland &amp; Delaware
REFRESH-INTERVAL;VALUE=DURATION:PT1H
X-Robots-Tag:noindex
X-PUBLISHED-TTL:PT1H
BEGIN:VTIMEZONE
TZID:America/New_York
BEGIN:DAYLIGHT
TZOFFSETFROM:-0500
TZOFFSETTO:-0400
TZNAME:EDT
DTSTART:20250309T070000
END:DAYLIGHT
BEGIN:STANDARD
TZOFFSETFROM:-0400
TZOFFSETTO:-0500
TZNAME:EST
DTSTART:20251102T060000
END:STANDARD
BEGIN:DAYLIGHT
TZOFFSETFROM:-0500
TZOFFSETTO:-0400
TZNAME:EDT
DTSTART:20260308T070000
END:DAYLIGHT
BEGIN:STANDARD
TZOFFSETFROM:-0400
TZOFFSETTO:-0500
TZNAME:EST
DTSTART:20261101T060000
END:STANDARD
BEGIN:DAYLIGHT
TZOFFSETFROM:-0500
TZOFFSETTO:-0400
TZNAME:EDT
DTSTART:20270314T070000
END:DAYLIGHT
BEGIN:STANDARD
TZOFFSETFROM:-0400
TZOFFSETTO:-0500
TZNAME:EST
DTSTART:20271107T060000
END:STANDARD
END:VTIMEZONE
BEGIN:VEVENT
DTSTART;TZID=America/New_York:20260714T120000
DTEND;TZID=America/New_York:20260714T130000
DTSTAMP:20260420T204010
CREATED:20260112T163133Z
LAST-MODIFIED:20260112T203148Z
UID:10000747-1784030400-1784034000@bcmd.org
SUMMARY:Weekday Educator Lunches
DESCRIPTION:Join us for a casual and uplifting lunch gathering designed for those who serve in church preschools or daycare ministries!\nThis is a time to connect with others in your unique role\, share stories\, and find encouragement in the challenges and joys of your work. Whether you’re seeking fresh ideas\, looking to build a support network\, or simply want to enjoy a meal with like-minded leaders\, this event is for you. Let’s build each other up as we serve the little ones in our communities! \nJimmy’s Famous Seafood\n6526 Holabird Avenue\,\nBaltimore\, MD 21224
URL:https://bcmd.org/event/weekday-educator-lunches-5/
CATEGORIES:Children's Ministry,Youth Ministry
ATTACH;FMTTYPE=image/png:https://bcmd.org/wp-content/uploads/2026/01/Weekday-Educator-Lunches.png
END:VEVENT
BEGIN:VEVENT
DTSTART;VALUE=DATE:20260718
DTEND;VALUE=DATE:20260719
DTSTAMP:20260420T204010
CREATED:20251023T082401Z
LAST-MODIFIED:20260120T195832Z
UID:10000731-1784332800-1784419199@bcmd.org
SUMMARY:Youth & Kids E3 Event
DESCRIPTION:Equipping + Encouraging + Engaging = E3!\nE3 events bring together children’s and youth ministry leaders from across the BCM/D for three energizing hours of practical training\, meaningful encouragement\, and real connection. Each gathering features a mix of large-group learning and smaller kidmin/youth-specific breakouts so leaders can grow together and dive into what matters most in their ministry area. We’ll meet in one central space with an additional breakout room\, keeping everything simple\, relational\, and impactful. And yes\, snacks and drinks are on us (because ministry is better with treats!). \nCome engage\, get equipped\, and leave encouraged to keep serving the next generation with joy and confidence. \n			\n				\n				\n				\n				\n				Event Schedule\n				9am Breakfast Fellowship \n9:15am Encouragement  \n9:30am Equipping – Children’s Ministry and Youth Ministry Breakout Session \n11am Engaging – Large Group Roundtables \n12:00pm Wrap up & Dismiss \n			\n				\n				\n				\n				\n				Children's Ministry Breakout Session with Kris Buckman\n				Cracking the Bible Code: Fun Ways to Teach Kids Biblical LiteracyHelp kids fall in love with their Bibles and build strong foundations for lifelong biblical literacy! This fun\, interactive workshop will inspire and prepare you to incorporate Bible skills into your weekly lessons in engaging and impactful ways. \nKris Buckman has been serving in children’s ministry for over two decades and still thinks there’s nothing better than watching kids discover God’s Word with joy. She holds a master’s degree in Children’s and Family Ministry and loves equipping leaders to build strong\, gospel-centered ministries. Kris now serves as the Youth & Kids Ministry Consultant for the BCM/D\, where she brings energy\, encouragement\, and a whole lot of fun to churches across Maryland and Delaware. \n			\n				\n				\n				\n				\n				Youth Ministry Breakout Session... COMING SOON!\n				\n			\n			\n				\n				\n				\n				\n			\n				\n				\n				\n				\n				\n				\n				\n				\n				\n				\n				Register Here!\n			\n				\n				\n				\n				\n				\n					\n					\n						\n						\n\n                \n                        \n                            E3 Event - July 18th\n                            Location TBD \n                        					\n						Δ\n						\n						\n\n					\n                        Name(Required)\n                            \n                            \n                                                    \n                                                    First\n                                                \n                            \n                            \n                                                    \n                                                    Last\n                                                \n                            \n                        Email(Required)\n                            \n                        Phone(Required)Church/Organization(Required)Role/Position(Required)Confirm Event Registration(Required)\n			\n					\n					July 18th - Location TBD\n			Total\n							\n						\n         \n\nContinue to Payment
URL:https://bcmd.org/event/youth-kids-e3-event-3/
CATEGORIES:Children's Ministry
ATTACH;FMTTYPE=image/png:https://bcmd.org/wp-content/uploads/2025/12/Webpage-2.png
END:VEVENT
END:VCALENDAR