BEGIN:VCALENDAR
VERSION:2.0
PRODID:-//Baptist Convention of Maryland &amp; Delaware - ECPv6.15.20//NONSGML v1.0//EN
CALSCALE:GREGORIAN
METHOD:PUBLISH
X-WR-CALNAME:Baptist Convention of Maryland &amp; Delaware
X-ORIGINAL-URL:https://bcmd.org
X-WR-CALDESC:Events for Baptist Convention of Maryland &amp; Delaware
REFRESH-INTERVAL;VALUE=DURATION:PT1H
X-Robots-Tag:noindex
X-PUBLISHED-TTL:PT1H
BEGIN:VTIMEZONE
TZID:America/New_York
BEGIN:DAYLIGHT
TZOFFSETFROM:-0500
TZOFFSETTO:-0400
TZNAME:EDT
DTSTART:20240310T070000
END:DAYLIGHT
BEGIN:STANDARD
TZOFFSETFROM:-0400
TZOFFSETTO:-0500
TZNAME:EST
DTSTART:20241103T060000
END:STANDARD
BEGIN:DAYLIGHT
TZOFFSETFROM:-0500
TZOFFSETTO:-0400
TZNAME:EDT
DTSTART:20250309T070000
END:DAYLIGHT
BEGIN:STANDARD
TZOFFSETFROM:-0400
TZOFFSETTO:-0500
TZNAME:EST
DTSTART:20251102T060000
END:STANDARD
BEGIN:DAYLIGHT
TZOFFSETFROM:-0500
TZOFFSETTO:-0400
TZNAME:EDT
DTSTART:20260308T070000
END:DAYLIGHT
BEGIN:STANDARD
TZOFFSETFROM:-0400
TZOFFSETTO:-0500
TZNAME:EST
DTSTART:20261101T060000
END:STANDARD
END:VTIMEZONE
BEGIN:VEVENT
DTSTART;TZID=America/New_York:20251001T120000
DTEND;TZID=America/New_York:20251001T140000
DTSTAMP:20260421T013226
CREATED:20250701T202041Z
LAST-MODIFIED:20250818T132217Z
UID:10000620-1759320000-1759327200@bcmd.org
SUMMARY:Connect Lunches with Kris
DESCRIPTION:When: Noon\nDates & Locations: \n\nJanuary 29 – Arundel Baptist Association\nMission BBQ\n2101 Somerville Road\, Suite 105\nAnnapolis\, MD 21401\nFebruary 19 – Baltimore Baptist Association\nMission BBQ\n3701 Boston Street\nBaltimore\, MD 21224\nMarch 12 – Blue Ridge Baptist Association\nMission BBQ\n5102 Pegasus Court\, Suite 101\nFrederick\, MD 21704\nMarch 19 – Blue Ridge Baptist Association\nMission BBQ\n17301 Valley Mall Road\, Suite 106\nHagerstown\, MD 21740\nApril 9 – Delaware Baptist Association\nMission BBQ\n365 N Dupont Highway\nDover\, DE 19901\nMay 14 – Eastern Baptist Association\nMission BBQ\n2618 N Salisbury Blvd\nSalisbury\, MD 21801\nMay 28 – Mid-Maryland Baptist Association\nMission BBQ\n3410 Plum Tree Drive\nEllicott City\, MD 21042\nAugust 13 – Mid-Maryland Baptist Association\nMission BBQ\n584 Jermor Lane West\nWestminster\, MD 21157\nAugust 25 – Montgomery Baptist Association\nMission BBQ\n885 Rockville Pike\nRockville\, MD 20852\nSeptember 9 – Prince George’s Baptist Association\nMission BBQ\n5506 Cherrywood Lane\, Suite A\nGreenbelt\, MD 20770\nSeptember 24 – Potomac Baptist Association\nMission BBQ\n3082 Festival Way\nWaldorf\, MD 20601\nOctober 1 – Potomac Baptist Association\nMission BBQ\n22599 MacArthur Blvd.\, Suite 136 B\nCalifornia\, MD 20619\nOctober 22 – Western Baptist Association\nApplebee’s\n12201 Winchester Rd SW\,\nLa Vale\, MD 21502\nNovember 19 – Susquehanna Baptist Association\nMission BBQ\n627 Bel Air Rd\nBel Air\, MD 21014\n\n\nOops! We could not locate your form.
URL:https://bcmd.org/event/connect-lunches-with-kris-2/2025-10-01/
CATEGORIES:Children's Ministry,Youth Ministry
ATTACH;FMTTYPE=image/jpeg:https://bcmd.org/wp-content/uploads/2024/06/Kris-revivejpg.jpg
END:VEVENT
BEGIN:VEVENT
DTSTART;TZID=America/New_York:20251004T093000
DTEND;TZID=America/New_York:20251004T130000
DTSTAMP:20260421T013226
CREATED:20250924T114458Z
LAST-MODIFIED:20250925T121420Z
UID:10000701-1759570200-1759582800@bcmd.org
SUMMARY:Preschool Ministry Gathering
DESCRIPTION:Preschool Ministry Gathering\n				Join us for a half-day gathering designed for church leaders\, preschool teachers and child development center directors and staff who are passionate about shaping the next generation. Together\, we’ll enjoy fellowship\, a light breakfast\, and practical workshops that highlight the gospel impact of weekday ministries and the beauty of child-centered learning grounded in God’s design. You’ll hear inspiring stories\, gain fresh strategies\, and discover new ways for churches and CDCs to partner for both spiritual formation and educational excellence. Walk away encouraged\, equipped\, and ready to take your next step in ministry with children and families. \n			\n				\n				\n				\n				\n				Meet our Speakers\n				 \nLora Gravatt is a visionary leader passionate for equipping Whole Life Disciples who follow Jesus into all spheres of their lives. A large part of her work has focused on developing discipleship initiatives such as transitioning the inherited church from a Sunday School model to home group model\, a church-home partnership strategy for the next gen\, and championing the reimagination of the Child Development Center ministry as an intentional tool to evangelize children and families. Lora holds a Master of Divinity degree with emphasis in Christian education\, Bachelors in Business & Marketing\, and has served in vocational ministry for over 25 years at Columbia Church.  \n\n \nDr. Doyna Illmer brings over 20 years of experience in early childhood education\, currently serving as Senior Director of Columbia Child Development Center\, a faith-based center in Falls Church\, VA\, that serves over 200 children ages 18 months to 5 years. She holds a Ph.D. in Educational Psychology with specialization in Early Childhood Education from The Catholic University of America and has extensive experience working with diverse families and communities both internationally and in the United States. Her passion for quality early childhood education stems from her deep understanding of how investment in young children can transform life trajectories\, particularly for underserved populations. \n			\n				\n				\n				\n				\n				Workshops\n				A More Beautiful Partnership: Reimagining the Church & CDC Together for Gospel ImpactYour church’s CDC is more than childcare\, it’s a sacred opportunity to disciple the next generation and reach families in your community. In this interactive workshop\, you’ll hear real stories from Columbia Church\, explore why weekday ministries are one of the most strategic doors for evangelism and discipleship\, and discover how pastors\, teachers\, and directors can partner together for greater gospel impact. You’ll leave inspired and equipped with your next practical step to strengthen the partnership between your church and CDC. This workshop is particularly helpful if all the stakeholders and strategic decision makers (Sr. Pastor\, Ex. Pastor/Discipleship Pastor\, Center Director\, Elder/Deacon\, Children’s Minister\, etc) can attend together. \n  \nSacred Wonder: Guiding Young Hearts Through God’s Design and Child-Centered LearningThis leadership workshop equips Christian preschool directors with the knowledge and tools to integrate the Reggio Emilia philosophy with biblical foundations in their programs. Directors will explore how child-centered\, inquiry-based learning can flourish within a Christ-centered environment while maintaining educational excellence and spiritual formation goals. Participants will leave with practical implementation strategies\, staff development resources\, and a clear roadmap for creating programs that honor both God’s design for childhood and evidence-based educational practices. \n			\n			\n			\n				\n				\n				\n				\n			\n				\n				\n			\n				\n				\n				\n				\n				\n				\n				\n				\n				\n				\n				\n				\n				\n				\n				\n				\n				\n				\n\n                \n                        \n                            Preschool Ministry Gathering\n                             \n                        					\n						Δ\n						\n						\n\n					\n                        Name(Required)\n                            \n                            \n                                                    \n                                                    First\n                                                \n                            \n                            \n                                                    \n                                                    Last\n                                                \n                            \n                        Church or CDC Name(Required)Email(Required)\n                            \n                        Phone(Required)Product Name Quantity(Required)Please select how many tickets you’d like to purchase. Each ticket is $10 per person (includes light breakfast and lunch).\n					\n					\n						Price:\n						$10.00\n					\n					\n					 Quantity \n				Total\n							\n						\n         \n\nContinue to Payment
URL:https://bcmd.org/event/preschool-ministry-gathering/
LOCATION:MIddle River Baptist Church\, 610 Middle River Rd.\, Middle River\, MD\, 21220\, United States
CATEGORIES:Children's Ministry
ATTACH;FMTTYPE=image/jpeg:https://bcmd.org/wp-content/uploads/2025/09/IMG_3982.jpeg
END:VEVENT
BEGIN:VEVENT
DTSTART;TZID=America/New_York:20251022T120000
DTEND;TZID=America/New_York:20251022T140000
DTSTAMP:20260421T013226
CREATED:20250701T202041Z
LAST-MODIFIED:20250818T132217Z
UID:10000621-1761134400-1761141600@bcmd.org
SUMMARY:Connect Lunches with Kris
DESCRIPTION:When: Noon\nDates & Locations: \n\nJanuary 29 – Arundel Baptist Association\nMission BBQ\n2101 Somerville Road\, Suite 105\nAnnapolis\, MD 21401\nFebruary 19 – Baltimore Baptist Association\nMission BBQ\n3701 Boston Street\nBaltimore\, MD 21224\nMarch 12 – Blue Ridge Baptist Association\nMission BBQ\n5102 Pegasus Court\, Suite 101\nFrederick\, MD 21704\nMarch 19 – Blue Ridge Baptist Association\nMission BBQ\n17301 Valley Mall Road\, Suite 106\nHagerstown\, MD 21740\nApril 9 – Delaware Baptist Association\nMission BBQ\n365 N Dupont Highway\nDover\, DE 19901\nMay 14 – Eastern Baptist Association\nMission BBQ\n2618 N Salisbury Blvd\nSalisbury\, MD 21801\nMay 28 – Mid-Maryland Baptist Association\nMission BBQ\n3410 Plum Tree Drive\nEllicott City\, MD 21042\nAugust 13 – Mid-Maryland Baptist Association\nMission BBQ\n584 Jermor Lane West\nWestminster\, MD 21157\nAugust 25 – Montgomery Baptist Association\nMission BBQ\n885 Rockville Pike\nRockville\, MD 20852\nSeptember 9 – Prince George’s Baptist Association\nMission BBQ\n5506 Cherrywood Lane\, Suite A\nGreenbelt\, MD 20770\nSeptember 24 – Potomac Baptist Association\nMission BBQ\n3082 Festival Way\nWaldorf\, MD 20601\nOctober 1 – Potomac Baptist Association\nMission BBQ\n22599 MacArthur Blvd.\, Suite 136 B\nCalifornia\, MD 20619\nOctober 22 – Western Baptist Association\nApplebee’s\n12201 Winchester Rd SW\,\nLa Vale\, MD 21502\nNovember 19 – Susquehanna Baptist Association\nMission BBQ\n627 Bel Air Rd\nBel Air\, MD 21014\n\n\nOops! We could not locate your form.
URL:https://bcmd.org/event/connect-lunches-with-kris-2/2025-10-22/
CATEGORIES:Children's Ministry,Youth Ministry
ATTACH;FMTTYPE=image/jpeg:https://bcmd.org/wp-content/uploads/2024/06/Kris-revivejpg.jpg
END:VEVENT
END:VCALENDAR