BEGIN:VCALENDAR
VERSION:2.0
PRODID:-//Baptist Convention of Maryland &amp; Delaware - ECPv6.15.20//NONSGML v1.0//EN
CALSCALE:GREGORIAN
METHOD:PUBLISH
X-ORIGINAL-URL:https://bcmd.org
X-WR-CALDESC:Events for Baptist Convention of Maryland &amp; Delaware
REFRESH-INTERVAL;VALUE=DURATION:PT1H
X-Robots-Tag:noindex
X-PUBLISHED-TTL:PT1H
BEGIN:VTIMEZONE
TZID:America/New_York
BEGIN:DAYLIGHT
TZOFFSETFROM:-0500
TZOFFSETTO:-0400
TZNAME:EDT
DTSTART:20220313T070000
END:DAYLIGHT
BEGIN:STANDARD
TZOFFSETFROM:-0400
TZOFFSETTO:-0500
TZNAME:EST
DTSTART:20221106T060000
END:STANDARD
BEGIN:DAYLIGHT
TZOFFSETFROM:-0500
TZOFFSETTO:-0400
TZNAME:EDT
DTSTART:20230312T070000
END:DAYLIGHT
BEGIN:STANDARD
TZOFFSETFROM:-0400
TZOFFSETTO:-0500
TZNAME:EST
DTSTART:20231105T060000
END:STANDARD
BEGIN:DAYLIGHT
TZOFFSETFROM:-0500
TZOFFSETTO:-0400
TZNAME:EDT
DTSTART:20240310T070000
END:DAYLIGHT
BEGIN:STANDARD
TZOFFSETFROM:-0400
TZOFFSETTO:-0500
TZNAME:EST
DTSTART:20241103T060000
END:STANDARD
END:VTIMEZONE
BEGIN:VEVENT
DTSTART;TZID=America/New_York:20230929T100000
DTEND;TZID=America/New_York:20230929T130000
DTSTAMP:20260422T134727
CREATED:20221029T014108Z
LAST-MODIFIED:20230907T165330Z
UID:10000014-1695981600-1695992400@bcmd.org
SUMMARY:Town Hall Meeting
DESCRIPTION:Why a Town Hall?\nCelebrate: Gather together to celebrate what God has and is doing within two state convention and eleven associations. \nCommunicate: A time to communicate with one another specifically about things that have a direct impact on our convention as a whole. Our goal is to have proposed resolutions and proposed changes to our constitution available for discussion. This gives time to deliberate and refine these items prior to our Annual Meeting. \nCollaborate: An opportunity to collaborate so that we can work more effectively together. We will not only discuss resolutions\, motions and proposed constitution changes that are designed to help us work more effectively\, but we will also hear about other opportunities we have to partner together. \nREGISTER NOW\nOops! We could not locate your form.
URL:https://bcmd.org/event/town-hall-meeting-2023/
LOCATION:Bethany Church Columbia\, 6570 Dobbin Rd Suite D\, Columbia\, MD\, 21045\, United States
CATEGORIES:Annual Meeting
ATTACH;FMTTYPE=image/png:https://bcmd.org/wp-content/uploads/2022/10/Town-Hall-Image.png
END:VEVENT
END:VCALENDAR