BEGIN:VCALENDAR
VERSION:2.0
PRODID:-//Baptist Convention of Maryland &amp; Delaware - ECPv6.15.20//NONSGML v1.0//EN
CALSCALE:GREGORIAN
METHOD:PUBLISH
X-WR-CALNAME:Baptist Convention of Maryland &amp; Delaware
X-ORIGINAL-URL:https://bcmd.org
X-WR-CALDESC:Events for Baptist Convention of Maryland &amp; Delaware
REFRESH-INTERVAL;VALUE=DURATION:PT1H
X-Robots-Tag:noindex
X-PUBLISHED-TTL:PT1H
BEGIN:VTIMEZONE
TZID:America/New_York
BEGIN:DAYLIGHT
TZOFFSETFROM:-0500
TZOFFSETTO:-0400
TZNAME:EDT
DTSTART:20240310T070000
END:DAYLIGHT
BEGIN:STANDARD
TZOFFSETFROM:-0400
TZOFFSETTO:-0500
TZNAME:EST
DTSTART:20241103T060000
END:STANDARD
BEGIN:DAYLIGHT
TZOFFSETFROM:-0500
TZOFFSETTO:-0400
TZNAME:EDT
DTSTART:20250309T070000
END:DAYLIGHT
BEGIN:STANDARD
TZOFFSETFROM:-0400
TZOFFSETTO:-0500
TZNAME:EST
DTSTART:20251102T060000
END:STANDARD
BEGIN:DAYLIGHT
TZOFFSETFROM:-0500
TZOFFSETTO:-0400
TZNAME:EDT
DTSTART:20260308T070000
END:DAYLIGHT
BEGIN:STANDARD
TZOFFSETFROM:-0400
TZOFFSETTO:-0500
TZNAME:EST
DTSTART:20261101T060000
END:STANDARD
END:VTIMEZONE
BEGIN:VEVENT
DTSTART;VALUE=DATE:20250202
DTEND;VALUE=DATE:20250203
DTSTAMP:20260422T215712
CREATED:20250110T204731Z
LAST-MODIFIED:20250113T073714Z
UID:10000661-1738454400-1738540799@bcmd.org
SUMMARY:George Liele Church Planting\, Evangelism\, And Missions Sunday
DESCRIPTION:Southern Baptists set aside the first Sunday in February to celebrate the work and leadership of African American and Black pioneers such as: \n\nGeorge Liele\, who many acknowledge as the first overseas missionary from the United States in 1782\nLott Carey\, who organized African American missions in the 1800s\nS.M. Lockridge\, who was a faithful preacher of the gospel in the 20th century\nSid Smith\, who was one of the first African American Southern Baptist denominational leaders in the modern era\nFred Luter\, who was elected as the first African American president of the Southern Baptist Convention.\n\nWe celebrate the life and work of these men by recognizing that their legacy encourages us to send more African American and Black missionaries. The world’s greatest problem is still lostness and there is no problem that should unify us more\, because in the gospel\, God has given the solution. Together\, we get to share the good news of Jesus with people and places who have never heard the gospel.
URL:https://bcmd.org/event/george-liele-church-planting-evangelism-and-missions-sunday/
CATEGORIES:African American
ATTACH;FMTTYPE=image/jpeg:https://bcmd.org/wp-content/uploads/2025/01/george-liele-updated.jpg
END:VEVENT
BEGIN:VEVENT
DTSTART;VALUE=DATE:20250224
DTEND;VALUE=DATE:20250225
DTSTAMP:20260422T215712
CREATED:20250116T131122Z
LAST-MODIFIED:20250116T131122Z
UID:10000668-1740355200-1740441599@bcmd.org
SUMMARY:George Liele Leadership Institute Winter 2025
DESCRIPTION:MONDAY CLASSES:\nHow to Read & Study the Bible: This course is to help the student to develop skills for reading and studying the Bible. The Bible is so important to the Christian life\, that all of us should be Bible students. We should know for ourselves where the Bible came from\, how to read it\, what is its main theme\, and how to use its teachings in our lives daily. This Course will focus on the Discovery Methodical Bible Study Method. \n  \nTUESDAY CLASSES:\nMaster Life III & IV: This course is designed to help students discover and understand what it means to be a Disciple of Jesus Christ. In Book 3\, The Disciple’s Victory\, you will focus on victory in spiritual warfare. In Book 4\, The Disciple’s Mission\, you will take the next stage in your discipleship journey by learning what it means to “go and make disciples of all nations.” (Matthew 28:19) \nNew Testament Survey: Gospel and Acts: The foundation for the New Testament is found in the four Gospels and Acts. The rest of the New Testament cannot be understood apart from this historical section. Four portraits of Jesus’ life\, message and mission are examined as recorded in the Gospels. The book of Acts will be discussed regarding the immense impact of the early Church’s thrust to change the world. The course goals are for you to understand the theme of each book and to find new ways to apply the life-changing truths to your life. \n  \nOops! We could not locate your form.
URL:https://bcmd.org/event/george-liele-leadership-institute-winter-2025/
LOCATION:New Song Bible Fellowship Church\, 8401 Good Luck Rd\, Lanham\, MD\, 20706\, United States
CATEGORIES:African American
ATTACH;FMTTYPE=image/png:https://bcmd.org/wp-content/uploads/2023/06/George-Liele-Leadership-Institute.png
END:VEVENT
END:VCALENDAR