BEGIN:VCALENDAR
VERSION:2.0
PRODID:-//Baptist Convention of Maryland &amp; Delaware - ECPv6.15.20//NONSGML v1.0//EN
CALSCALE:GREGORIAN
METHOD:PUBLISH
X-ORIGINAL-URL:https://bcmd.org
X-WR-CALDESC:Events for Baptist Convention of Maryland &amp; Delaware
REFRESH-INTERVAL;VALUE=DURATION:PT1H
X-Robots-Tag:noindex
X-PUBLISHED-TTL:PT1H
BEGIN:VTIMEZONE
TZID:America/New_York
BEGIN:DAYLIGHT
TZOFFSETFROM:-0500
TZOFFSETTO:-0400
TZNAME:EDT
DTSTART:20230312T070000
END:DAYLIGHT
BEGIN:STANDARD
TZOFFSETFROM:-0400
TZOFFSETTO:-0500
TZNAME:EST
DTSTART:20231105T060000
END:STANDARD
BEGIN:DAYLIGHT
TZOFFSETFROM:-0500
TZOFFSETTO:-0400
TZNAME:EDT
DTSTART:20240310T070000
END:DAYLIGHT
BEGIN:STANDARD
TZOFFSETFROM:-0400
TZOFFSETTO:-0500
TZNAME:EST
DTSTART:20241103T060000
END:STANDARD
BEGIN:DAYLIGHT
TZOFFSETFROM:-0500
TZOFFSETTO:-0400
TZNAME:EDT
DTSTART:20250309T070000
END:DAYLIGHT
BEGIN:STANDARD
TZOFFSETFROM:-0400
TZOFFSETTO:-0500
TZNAME:EST
DTSTART:20251102T060000
END:STANDARD
END:VTIMEZONE
BEGIN:VEVENT
DTSTART;TZID=America/New_York:20240622T090000
DTEND;TZID=America/New_York:20240622T150000
DTSTAMP:20260423T105139
CREATED:20240319T203932Z
LAST-MODIFIED:20240521T145251Z
UID:10000159-1719046800-1719068400@bcmd.org
SUMMARY:African American Fellowship Awareness Conference
DESCRIPTION:Technology and the Church\nREGISTER BELOW!\nConference Date and Time: Saturday\, June 22nd from 9-3 pm (Registration starts at 8:30 am)Conference Location: BCM/D BuildingConference Cost: $10 per person \nConference Schedule: \n8:30-9:00 – Registration\n9:00-9:20 – Welcome and Worship\n9:20-9:40 – Main Session 1: A Biblical Perspective on Technology\n9:50-10:35 – Main Session 2: AI – What Is It and How Does It Impact Me?\n10:45-11:30 – Main Session 3: Right Now Media: Technology for the Church\n11:30-12:30 – Lunch12:35-1:20 – Breakout Session 11:30-2:25 – Breakout Session 2\n2:35-3:00 – Final Exhortations\, Remarks and Closing\nBreakout Sessions: \nBreakout Session 1 Offerings:Using Technology Safely – This breakout will focus on protecting oneself while using technology with an emphasis on the two most vulnerable populations\, seniors and teens/children.Using the Various Technology Platforms for Ministry – This breakout will focus on how to use various technological platforms to enhance your worship service and ministry to those who are already connected to your church.Breakout Session 2 Offerings:Using the Various Technology Platforms to Grow Your Church – This breakout will focus on using the various technology platforms to reach those who are not already connected or aware of your church. It will cover subjects like the various platforms available\, advertising\, and strategies to enhance your online presence with the goal of growing your church.Right Now Media Tutorial  – This breakout will help users to leverage the Right Now Media resource effectively by highlighting the various functions and tools within the program. This session is designed for both first-time and intermediate users of Right Now Media.  \n \n \nOops! We could not locate your form.
URL:https://bcmd.org/event/2024-aaf-conference/
LOCATION:Baptist Convention of Maryland/Delaware\, 10255 Old Columbia Rd\, Columbia\, MD\, 21046\, United States
CATEGORIES:African American
ATTACH;FMTTYPE=image/png:https://bcmd.org/wp-content/uploads/2024/03/AAF-Awareness-Conference.png
END:VEVENT
END:VCALENDAR